BEGIN:VCALENDAR
VERSION:2.0
PRODID:-//eutonie.de - ECPv6.15.20//NONSGML v1.0//EN
CALSCALE:GREGORIAN
METHOD:PUBLISH
X-ORIGINAL-URL:https://www.eutonie.de
X-WR-CALDESC:Veranstaltungen für eutonie.de
REFRESH-INTERVAL;VALUE=DURATION:PT1H
X-Robots-Tag:noindex
X-PUBLISHED-TTL:PT1H
BEGIN:VTIMEZONE
TZID:Europe/Berlin
BEGIN:DAYLIGHT
TZOFFSETFROM:+0100
TZOFFSETTO:+0200
TZNAME:CEST
DTSTART:20260329T010000
END:DAYLIGHT
BEGIN:STANDARD
TZOFFSETFROM:+0200
TZOFFSETTO:+0100
TZNAME:CET
DTSTART:20261025T010000
END:STANDARD
BEGIN:DAYLIGHT
TZOFFSETFROM:+0100
TZOFFSETTO:+0200
TZNAME:CEST
DTSTART:20270328T010000
END:DAYLIGHT
BEGIN:STANDARD
TZOFFSETFROM:+0200
TZOFFSETTO:+0100
TZNAME:CET
DTSTART:20271031T010000
END:STANDARD
BEGIN:DAYLIGHT
TZOFFSETFROM:+0100
TZOFFSETTO:+0200
TZNAME:CEST
DTSTART:20280326T010000
END:DAYLIGHT
BEGIN:STANDARD
TZOFFSETFROM:+0200
TZOFFSETTO:+0100
TZNAME:CET
DTSTART:20281029T010000
END:STANDARD
END:VTIMEZONE
BEGIN:VEVENT
DTSTART;TZID=Europe/Berlin:20270802T093000
DTEND;TZID=Europe/Berlin:20270802T110000
DTSTAMP:20260420T022812
CREATED:20180418T101313Z
LAST-MODIFIED:20190522T103816Z
UID:10005406-1817199000-1817204400@www.eutonie.de
SUMMARY:Eutonie am Morgen (Bad Kreuznach)
DESCRIPTION:Montags fortlaufender Kurs
URL:https://www.eutonie.de/alle-kursangebote/eutonie-am-morgen-bad-kreuznach/2027-08-02/
LOCATION:Knop\, Gartenbrunnenweg 3\, Bad Kreuznach\, 55543\, Deutschland
ORGANIZER;CN="Knop%2C Dorothee":MAILTO:dorothee.knop@gmx.de
GEO:49.8346713;7.8582538
X-APPLE-STRUCTURED-LOCATION;VALUE=URI;X-ADDRESS=Knop Gartenbrunnenweg 3 Bad Kreuznach 55543 Deutschland;X-APPLE-RADIUS=500;X-TITLE=Gartenbrunnenweg 3:geo:7.8582538,49.8346713
END:VEVENT
BEGIN:VEVENT
DTSTART;TZID=Europe/Berlin:20270802T180000
DTEND;TZID=Europe/Berlin:20270802T193000
DTSTAMP:20260420T022812
CREATED:20180418T101045Z
LAST-MODIFIED:20190522T100704Z
UID:10005616-1817229600-1817235000@www.eutonie.de
SUMMARY:Eutonie am Abend (Bad Kreuznach)
DESCRIPTION:Montags fortlaufender Kurs
URL:https://www.eutonie.de/alle-kursangebote/eutonie-am-abend-bad-kreuznach/2027-08-02/
LOCATION:Knop\, Gartenbrunnenweg 3\, Bad Kreuznach\, 55543\, Deutschland
ORGANIZER;CN="Knop%2C Dorothee":MAILTO:dorothee.knop@gmx.de
GEO:49.8346713;7.8582538
X-APPLE-STRUCTURED-LOCATION;VALUE=URI;X-ADDRESS=Knop Gartenbrunnenweg 3 Bad Kreuznach 55543 Deutschland;X-APPLE-RADIUS=500;X-TITLE=Gartenbrunnenweg 3:geo:7.8582538,49.8346713
END:VEVENT
BEGIN:VEVENT
DTSTART;TZID=Europe/Berlin:20270802T190000
DTEND;TZID=Europe/Berlin:20270802T203000
DTSTAMP:20260420T022812
CREATED:20180418T100557Z
LAST-MODIFIED:20230430T141538Z
UID:10009166-1817233200-1817238600@www.eutonie.de
SUMMARY:Sanfte Körperarbeit für Wohlgefühl\, Beweglichkeit\, Spannungsausgleich und Gelassenheit
DESCRIPTION:Montags fortlaufender Kurs \nSanfte Körperarbeit für Wohlgefühl\, Beweglichkeit\, Spannungsausgleich und Gelassenheit \n-mehr Körperbewußtsein erlangen \n-mehr Beweglichkeit erfahren \n-Verspannungen lösen \n-tägliches Wohlbefinden steigern \n  \nKosten: 100 € für 10 Einheiten
URL:https://www.eutonie.de/alle-kursangebote/3186-2024-04-22/2027-08-02/
LOCATION:Kindergarten St. Michael\, Kirchstraße 12\, Gutach im Breisgau\, 79261\, Deutschland
ORGANIZER;CN="Klank%2C Angelika":MAILTO:angelikaklank@web.de
GEO:48.11648;7.99199
X-APPLE-STRUCTURED-LOCATION;VALUE=URI;X-ADDRESS=Kindergarten St. Michael Kirchstraße 12 Gutach im Breisgau 79261 Deutschland;X-APPLE-RADIUS=500;X-TITLE=Kirchstraße 12:geo:7.99199,48.11648
END:VEVENT
BEGIN:VEVENT
DTSTART;TZID=Europe/Berlin:20270809T093000
DTEND;TZID=Europe/Berlin:20270809T110000
DTSTAMP:20260420T022812
CREATED:20180418T101313Z
LAST-MODIFIED:20190522T103816Z
UID:10005407-1817803800-1817809200@www.eutonie.de
SUMMARY:Eutonie am Morgen (Bad Kreuznach)
DESCRIPTION:Montags fortlaufender Kurs
URL:https://www.eutonie.de/alle-kursangebote/eutonie-am-morgen-bad-kreuznach/2027-08-09/
LOCATION:Knop\, Gartenbrunnenweg 3\, Bad Kreuznach\, 55543\, Deutschland
ORGANIZER;CN="Knop%2C Dorothee":MAILTO:dorothee.knop@gmx.de
GEO:49.8346713;7.8582538
X-APPLE-STRUCTURED-LOCATION;VALUE=URI;X-ADDRESS=Knop Gartenbrunnenweg 3 Bad Kreuznach 55543 Deutschland;X-APPLE-RADIUS=500;X-TITLE=Gartenbrunnenweg 3:geo:7.8582538,49.8346713
END:VEVENT
BEGIN:VEVENT
DTSTART;TZID=Europe/Berlin:20270809T180000
DTEND;TZID=Europe/Berlin:20270809T193000
DTSTAMP:20260420T022812
CREATED:20180418T101045Z
LAST-MODIFIED:20190522T100704Z
UID:10005617-1817834400-1817839800@www.eutonie.de
SUMMARY:Eutonie am Abend (Bad Kreuznach)
DESCRIPTION:Montags fortlaufender Kurs
URL:https://www.eutonie.de/alle-kursangebote/eutonie-am-abend-bad-kreuznach/2027-08-09/
LOCATION:Knop\, Gartenbrunnenweg 3\, Bad Kreuznach\, 55543\, Deutschland
ORGANIZER;CN="Knop%2C Dorothee":MAILTO:dorothee.knop@gmx.de
GEO:49.8346713;7.8582538
X-APPLE-STRUCTURED-LOCATION;VALUE=URI;X-ADDRESS=Knop Gartenbrunnenweg 3 Bad Kreuznach 55543 Deutschland;X-APPLE-RADIUS=500;X-TITLE=Gartenbrunnenweg 3:geo:7.8582538,49.8346713
END:VEVENT
BEGIN:VEVENT
DTSTART;TZID=Europe/Berlin:20270809T190000
DTEND;TZID=Europe/Berlin:20270809T203000
DTSTAMP:20260420T022812
CREATED:20180418T100557Z
LAST-MODIFIED:20230430T141538Z
UID:10009167-1817838000-1817843400@www.eutonie.de
SUMMARY:Sanfte Körperarbeit für Wohlgefühl\, Beweglichkeit\, Spannungsausgleich und Gelassenheit
DESCRIPTION:Montags fortlaufender Kurs \nSanfte Körperarbeit für Wohlgefühl\, Beweglichkeit\, Spannungsausgleich und Gelassenheit \n-mehr Körperbewußtsein erlangen \n-mehr Beweglichkeit erfahren \n-Verspannungen lösen \n-tägliches Wohlbefinden steigern \n  \nKosten: 100 € für 10 Einheiten
URL:https://www.eutonie.de/alle-kursangebote/3186-2024-04-22/2027-08-09/
LOCATION:Kindergarten St. Michael\, Kirchstraße 12\, Gutach im Breisgau\, 79261\, Deutschland
ORGANIZER;CN="Klank%2C Angelika":MAILTO:angelikaklank@web.de
GEO:48.11648;7.99199
X-APPLE-STRUCTURED-LOCATION;VALUE=URI;X-ADDRESS=Kindergarten St. Michael Kirchstraße 12 Gutach im Breisgau 79261 Deutschland;X-APPLE-RADIUS=500;X-TITLE=Kirchstraße 12:geo:7.99199,48.11648
END:VEVENT
BEGIN:VEVENT
DTSTART;TZID=Europe/Berlin:20270816T093000
DTEND;TZID=Europe/Berlin:20270816T110000
DTSTAMP:20260420T022812
CREATED:20180418T101313Z
LAST-MODIFIED:20190522T103816Z
UID:10005408-1818408600-1818414000@www.eutonie.de
SUMMARY:Eutonie am Morgen (Bad Kreuznach)
DESCRIPTION:Montags fortlaufender Kurs
URL:https://www.eutonie.de/alle-kursangebote/eutonie-am-morgen-bad-kreuznach/2027-08-16/
LOCATION:Knop\, Gartenbrunnenweg 3\, Bad Kreuznach\, 55543\, Deutschland
ORGANIZER;CN="Knop%2C Dorothee":MAILTO:dorothee.knop@gmx.de
GEO:49.8346713;7.8582538
X-APPLE-STRUCTURED-LOCATION;VALUE=URI;X-ADDRESS=Knop Gartenbrunnenweg 3 Bad Kreuznach 55543 Deutschland;X-APPLE-RADIUS=500;X-TITLE=Gartenbrunnenweg 3:geo:7.8582538,49.8346713
END:VEVENT
BEGIN:VEVENT
DTSTART;TZID=Europe/Berlin:20270816T180000
DTEND;TZID=Europe/Berlin:20270816T193000
DTSTAMP:20260420T022812
CREATED:20180418T101045Z
LAST-MODIFIED:20190522T100704Z
UID:10005618-1818439200-1818444600@www.eutonie.de
SUMMARY:Eutonie am Abend (Bad Kreuznach)
DESCRIPTION:Montags fortlaufender Kurs
URL:https://www.eutonie.de/alle-kursangebote/eutonie-am-abend-bad-kreuznach/2027-08-16/
LOCATION:Knop\, Gartenbrunnenweg 3\, Bad Kreuznach\, 55543\, Deutschland
ORGANIZER;CN="Knop%2C Dorothee":MAILTO:dorothee.knop@gmx.de
GEO:49.8346713;7.8582538
X-APPLE-STRUCTURED-LOCATION;VALUE=URI;X-ADDRESS=Knop Gartenbrunnenweg 3 Bad Kreuznach 55543 Deutschland;X-APPLE-RADIUS=500;X-TITLE=Gartenbrunnenweg 3:geo:7.8582538,49.8346713
END:VEVENT
BEGIN:VEVENT
DTSTART;TZID=Europe/Berlin:20270816T190000
DTEND;TZID=Europe/Berlin:20270816T203000
DTSTAMP:20260420T022812
CREATED:20180418T100557Z
LAST-MODIFIED:20230430T141538Z
UID:10009168-1818442800-1818448200@www.eutonie.de
SUMMARY:Sanfte Körperarbeit für Wohlgefühl\, Beweglichkeit\, Spannungsausgleich und Gelassenheit
DESCRIPTION:Montags fortlaufender Kurs \nSanfte Körperarbeit für Wohlgefühl\, Beweglichkeit\, Spannungsausgleich und Gelassenheit \n-mehr Körperbewußtsein erlangen \n-mehr Beweglichkeit erfahren \n-Verspannungen lösen \n-tägliches Wohlbefinden steigern \n  \nKosten: 100 € für 10 Einheiten
URL:https://www.eutonie.de/alle-kursangebote/3186-2024-04-22/2027-08-16/
LOCATION:Kindergarten St. Michael\, Kirchstraße 12\, Gutach im Breisgau\, 79261\, Deutschland
ORGANIZER;CN="Klank%2C Angelika":MAILTO:angelikaklank@web.de
GEO:48.11648;7.99199
X-APPLE-STRUCTURED-LOCATION;VALUE=URI;X-ADDRESS=Kindergarten St. Michael Kirchstraße 12 Gutach im Breisgau 79261 Deutschland;X-APPLE-RADIUS=500;X-TITLE=Kirchstraße 12:geo:7.99199,48.11648
END:VEVENT
BEGIN:VEVENT
DTSTART;TZID=Europe/Berlin:20270823T093000
DTEND;TZID=Europe/Berlin:20270823T110000
DTSTAMP:20260420T022812
CREATED:20180418T101313Z
LAST-MODIFIED:20190522T103816Z
UID:10005409-1819013400-1819018800@www.eutonie.de
SUMMARY:Eutonie am Morgen (Bad Kreuznach)
DESCRIPTION:Montags fortlaufender Kurs
URL:https://www.eutonie.de/alle-kursangebote/eutonie-am-morgen-bad-kreuznach/2027-08-23/
LOCATION:Knop\, Gartenbrunnenweg 3\, Bad Kreuznach\, 55543\, Deutschland
ORGANIZER;CN="Knop%2C Dorothee":MAILTO:dorothee.knop@gmx.de
GEO:49.8346713;7.8582538
X-APPLE-STRUCTURED-LOCATION;VALUE=URI;X-ADDRESS=Knop Gartenbrunnenweg 3 Bad Kreuznach 55543 Deutschland;X-APPLE-RADIUS=500;X-TITLE=Gartenbrunnenweg 3:geo:7.8582538,49.8346713
END:VEVENT
BEGIN:VEVENT
DTSTART;TZID=Europe/Berlin:20270823T180000
DTEND;TZID=Europe/Berlin:20270823T193000
DTSTAMP:20260420T022812
CREATED:20180418T101045Z
LAST-MODIFIED:20190522T100704Z
UID:10005619-1819044000-1819049400@www.eutonie.de
SUMMARY:Eutonie am Abend (Bad Kreuznach)
DESCRIPTION:Montags fortlaufender Kurs
URL:https://www.eutonie.de/alle-kursangebote/eutonie-am-abend-bad-kreuznach/2027-08-23/
LOCATION:Knop\, Gartenbrunnenweg 3\, Bad Kreuznach\, 55543\, Deutschland
ORGANIZER;CN="Knop%2C Dorothee":MAILTO:dorothee.knop@gmx.de
GEO:49.8346713;7.8582538
X-APPLE-STRUCTURED-LOCATION;VALUE=URI;X-ADDRESS=Knop Gartenbrunnenweg 3 Bad Kreuznach 55543 Deutschland;X-APPLE-RADIUS=500;X-TITLE=Gartenbrunnenweg 3:geo:7.8582538,49.8346713
END:VEVENT
BEGIN:VEVENT
DTSTART;TZID=Europe/Berlin:20270823T190000
DTEND;TZID=Europe/Berlin:20270823T203000
DTSTAMP:20260420T022812
CREATED:20180418T100557Z
LAST-MODIFIED:20230430T141538Z
UID:10009169-1819047600-1819053000@www.eutonie.de
SUMMARY:Sanfte Körperarbeit für Wohlgefühl\, Beweglichkeit\, Spannungsausgleich und Gelassenheit
DESCRIPTION:Montags fortlaufender Kurs \nSanfte Körperarbeit für Wohlgefühl\, Beweglichkeit\, Spannungsausgleich und Gelassenheit \n-mehr Körperbewußtsein erlangen \n-mehr Beweglichkeit erfahren \n-Verspannungen lösen \n-tägliches Wohlbefinden steigern \n  \nKosten: 100 € für 10 Einheiten
URL:https://www.eutonie.de/alle-kursangebote/3186-2024-04-22/2027-08-23/
LOCATION:Kindergarten St. Michael\, Kirchstraße 12\, Gutach im Breisgau\, 79261\, Deutschland
ORGANIZER;CN="Klank%2C Angelika":MAILTO:angelikaklank@web.de
GEO:48.11648;7.99199
X-APPLE-STRUCTURED-LOCATION;VALUE=URI;X-ADDRESS=Kindergarten St. Michael Kirchstraße 12 Gutach im Breisgau 79261 Deutschland;X-APPLE-RADIUS=500;X-TITLE=Kirchstraße 12:geo:7.99199,48.11648
END:VEVENT
BEGIN:VEVENT
DTSTART;TZID=Europe/Berlin:20270830T093000
DTEND;TZID=Europe/Berlin:20270830T110000
DTSTAMP:20260420T022812
CREATED:20180418T101313Z
LAST-MODIFIED:20190522T103816Z
UID:10005410-1819618200-1819623600@www.eutonie.de
SUMMARY:Eutonie am Morgen (Bad Kreuznach)
DESCRIPTION:Montags fortlaufender Kurs
URL:https://www.eutonie.de/alle-kursangebote/eutonie-am-morgen-bad-kreuznach/2027-08-30/
LOCATION:Knop\, Gartenbrunnenweg 3\, Bad Kreuznach\, 55543\, Deutschland
ORGANIZER;CN="Knop%2C Dorothee":MAILTO:dorothee.knop@gmx.de
GEO:49.8346713;7.8582538
X-APPLE-STRUCTURED-LOCATION;VALUE=URI;X-ADDRESS=Knop Gartenbrunnenweg 3 Bad Kreuznach 55543 Deutschland;X-APPLE-RADIUS=500;X-TITLE=Gartenbrunnenweg 3:geo:7.8582538,49.8346713
END:VEVENT
BEGIN:VEVENT
DTSTART;TZID=Europe/Berlin:20270830T180000
DTEND;TZID=Europe/Berlin:20270830T193000
DTSTAMP:20260420T022812
CREATED:20180418T101045Z
LAST-MODIFIED:20190522T100704Z
UID:10005620-1819648800-1819654200@www.eutonie.de
SUMMARY:Eutonie am Abend (Bad Kreuznach)
DESCRIPTION:Montags fortlaufender Kurs
URL:https://www.eutonie.de/alle-kursangebote/eutonie-am-abend-bad-kreuznach/2027-08-30/
LOCATION:Knop\, Gartenbrunnenweg 3\, Bad Kreuznach\, 55543\, Deutschland
ORGANIZER;CN="Knop%2C Dorothee":MAILTO:dorothee.knop@gmx.de
GEO:49.8346713;7.8582538
X-APPLE-STRUCTURED-LOCATION;VALUE=URI;X-ADDRESS=Knop Gartenbrunnenweg 3 Bad Kreuznach 55543 Deutschland;X-APPLE-RADIUS=500;X-TITLE=Gartenbrunnenweg 3:geo:7.8582538,49.8346713
END:VEVENT
BEGIN:VEVENT
DTSTART;TZID=Europe/Berlin:20270830T190000
DTEND;TZID=Europe/Berlin:20270830T203000
DTSTAMP:20260420T022812
CREATED:20180418T100557Z
LAST-MODIFIED:20230430T141538Z
UID:10009170-1819652400-1819657800@www.eutonie.de
SUMMARY:Sanfte Körperarbeit für Wohlgefühl\, Beweglichkeit\, Spannungsausgleich und Gelassenheit
DESCRIPTION:Montags fortlaufender Kurs \nSanfte Körperarbeit für Wohlgefühl\, Beweglichkeit\, Spannungsausgleich und Gelassenheit \n-mehr Körperbewußtsein erlangen \n-mehr Beweglichkeit erfahren \n-Verspannungen lösen \n-tägliches Wohlbefinden steigern \n  \nKosten: 100 € für 10 Einheiten
URL:https://www.eutonie.de/alle-kursangebote/3186-2024-04-22/2027-08-30/
LOCATION:Kindergarten St. Michael\, Kirchstraße 12\, Gutach im Breisgau\, 79261\, Deutschland
ORGANIZER;CN="Klank%2C Angelika":MAILTO:angelikaklank@web.de
GEO:48.11648;7.99199
X-APPLE-STRUCTURED-LOCATION;VALUE=URI;X-ADDRESS=Kindergarten St. Michael Kirchstraße 12 Gutach im Breisgau 79261 Deutschland;X-APPLE-RADIUS=500;X-TITLE=Kirchstraße 12:geo:7.99199,48.11648
END:VEVENT
END:VCALENDAR