BEGIN:VCALENDAR
VERSION:2.0
PRODID:-//eutonie.de - ECPv6.15.20//NONSGML v1.0//EN
CALSCALE:GREGORIAN
METHOD:PUBLISH
X-ORIGINAL-URL:https://www.eutonie.de
X-WR-CALDESC:Veranstaltungen für eutonie.de
REFRESH-INTERVAL;VALUE=DURATION:PT1H
X-Robots-Tag:noindex
X-PUBLISHED-TTL:PT1H
BEGIN:VTIMEZONE
TZID:Europe/Berlin
BEGIN:DAYLIGHT
TZOFFSETFROM:+0100
TZOFFSETTO:+0200
TZNAME:CEST
DTSTART:20280326T010000
END:DAYLIGHT
BEGIN:STANDARD
TZOFFSETFROM:+0200
TZOFFSETTO:+0100
TZNAME:CET
DTSTART:20281029T010000
END:STANDARD
BEGIN:DAYLIGHT
TZOFFSETFROM:+0100
TZOFFSETTO:+0200
TZNAME:CEST
DTSTART:20290325T010000
END:DAYLIGHT
BEGIN:STANDARD
TZOFFSETFROM:+0200
TZOFFSETTO:+0100
TZNAME:CET
DTSTART:20291028T010000
END:STANDARD
BEGIN:DAYLIGHT
TZOFFSETFROM:+0100
TZOFFSETTO:+0200
TZNAME:CEST
DTSTART:20300331T010000
END:DAYLIGHT
BEGIN:STANDARD
TZOFFSETFROM:+0200
TZOFFSETTO:+0100
TZNAME:CET
DTSTART:20301027T010000
END:STANDARD
END:VTIMEZONE
BEGIN:VEVENT
DTSTART;TZID=Europe/Berlin:20290903T093000
DTEND;TZID=Europe/Berlin:20290903T110000
DTSTAMP:20260423T193811
CREATED:20180418T101313Z
LAST-MODIFIED:20190522T103816Z
UID:10008261-1883122200-1883127600@www.eutonie.de
SUMMARY:Eutonie am Morgen (Bad Kreuznach)
DESCRIPTION:Montags fortlaufender Kurs
URL:https://www.eutonie.de/alle-kursangebote/eutonie-am-morgen-bad-kreuznach/2029-09-03/
LOCATION:Knop\, Gartenbrunnenweg 3\, Bad Kreuznach\, 55543\, Deutschland
ORGANIZER;CN="Knop%2C Dorothee":MAILTO:dorothee.knop@gmx.de
GEO:49.8346713;7.8582538
X-APPLE-STRUCTURED-LOCATION;VALUE=URI;X-ADDRESS=Knop Gartenbrunnenweg 3 Bad Kreuznach 55543 Deutschland;X-APPLE-RADIUS=500;X-TITLE=Gartenbrunnenweg 3:geo:7.8582538,49.8346713
END:VEVENT
BEGIN:VEVENT
DTSTART;TZID=Europe/Berlin:20290903T180000
DTEND;TZID=Europe/Berlin:20290903T193000
DTSTAMP:20260423T193811
CREATED:20180418T101045Z
LAST-MODIFIED:20190522T100704Z
UID:10008262-1883152800-1883158200@www.eutonie.de
SUMMARY:Eutonie am Abend (Bad Kreuznach)
DESCRIPTION:Montags fortlaufender Kurs
URL:https://www.eutonie.de/alle-kursangebote/eutonie-am-abend-bad-kreuznach/2029-09-03/
LOCATION:Knop\, Gartenbrunnenweg 3\, Bad Kreuznach\, 55543\, Deutschland
ORGANIZER;CN="Knop%2C Dorothee":MAILTO:dorothee.knop@gmx.de
GEO:49.8346713;7.8582538
X-APPLE-STRUCTURED-LOCATION;VALUE=URI;X-ADDRESS=Knop Gartenbrunnenweg 3 Bad Kreuznach 55543 Deutschland;X-APPLE-RADIUS=500;X-TITLE=Gartenbrunnenweg 3:geo:7.8582538,49.8346713
END:VEVENT
BEGIN:VEVENT
DTSTART;TZID=Europe/Berlin:20290903T190000
DTEND;TZID=Europe/Berlin:20290903T203000
DTSTAMP:20260423T193811
CREATED:20180418T100557Z
LAST-MODIFIED:20230430T141538Z
UID:10009275-1883156400-1883161800@www.eutonie.de
SUMMARY:Sanfte Körperarbeit für Wohlgefühl\, Beweglichkeit\, Spannungsausgleich und Gelassenheit
DESCRIPTION:Montags fortlaufender Kurs \nSanfte Körperarbeit für Wohlgefühl\, Beweglichkeit\, Spannungsausgleich und Gelassenheit \n-mehr Körperbewußtsein erlangen \n-mehr Beweglichkeit erfahren \n-Verspannungen lösen \n-tägliches Wohlbefinden steigern \n  \nKosten: 100 € für 10 Einheiten
URL:https://www.eutonie.de/alle-kursangebote/3186-2024-04-22/2029-09-03/
LOCATION:Kindergarten St. Michael\, Kirchstraße 12\, Gutach im Breisgau\, 79261\, Deutschland
ORGANIZER;CN="Klank%2C Angelika":MAILTO:angelikaklank@web.de
GEO:48.11648;7.99199
X-APPLE-STRUCTURED-LOCATION;VALUE=URI;X-ADDRESS=Kindergarten St. Michael Kirchstraße 12 Gutach im Breisgau 79261 Deutschland;X-APPLE-RADIUS=500;X-TITLE=Kirchstraße 12:geo:7.99199,48.11648
END:VEVENT
BEGIN:VEVENT
DTSTART;TZID=Europe/Berlin:20290910T093000
DTEND;TZID=Europe/Berlin:20290910T110000
DTSTAMP:20260423T193811
CREATED:20180418T101313Z
LAST-MODIFIED:20190522T103816Z
UID:10008272-1883727000-1883732400@www.eutonie.de
SUMMARY:Eutonie am Morgen (Bad Kreuznach)
DESCRIPTION:Montags fortlaufender Kurs
URL:https://www.eutonie.de/alle-kursangebote/eutonie-am-morgen-bad-kreuznach/2029-09-10/
LOCATION:Knop\, Gartenbrunnenweg 3\, Bad Kreuznach\, 55543\, Deutschland
ORGANIZER;CN="Knop%2C Dorothee":MAILTO:dorothee.knop@gmx.de
GEO:49.8346713;7.8582538
X-APPLE-STRUCTURED-LOCATION;VALUE=URI;X-ADDRESS=Knop Gartenbrunnenweg 3 Bad Kreuznach 55543 Deutschland;X-APPLE-RADIUS=500;X-TITLE=Gartenbrunnenweg 3:geo:7.8582538,49.8346713
END:VEVENT
BEGIN:VEVENT
DTSTART;TZID=Europe/Berlin:20290910T180000
DTEND;TZID=Europe/Berlin:20290910T193000
DTSTAMP:20260423T193811
CREATED:20180418T101045Z
LAST-MODIFIED:20190522T100704Z
UID:10008273-1883757600-1883763000@www.eutonie.de
SUMMARY:Eutonie am Abend (Bad Kreuznach)
DESCRIPTION:Montags fortlaufender Kurs
URL:https://www.eutonie.de/alle-kursangebote/eutonie-am-abend-bad-kreuznach/2029-09-10/
LOCATION:Knop\, Gartenbrunnenweg 3\, Bad Kreuznach\, 55543\, Deutschland
ORGANIZER;CN="Knop%2C Dorothee":MAILTO:dorothee.knop@gmx.de
GEO:49.8346713;7.8582538
X-APPLE-STRUCTURED-LOCATION;VALUE=URI;X-ADDRESS=Knop Gartenbrunnenweg 3 Bad Kreuznach 55543 Deutschland;X-APPLE-RADIUS=500;X-TITLE=Gartenbrunnenweg 3:geo:7.8582538,49.8346713
END:VEVENT
BEGIN:VEVENT
DTSTART;TZID=Europe/Berlin:20290910T190000
DTEND;TZID=Europe/Berlin:20290910T203000
DTSTAMP:20260423T193811
CREATED:20180418T100557Z
LAST-MODIFIED:20230430T141538Z
UID:10009276-1883761200-1883766600@www.eutonie.de
SUMMARY:Sanfte Körperarbeit für Wohlgefühl\, Beweglichkeit\, Spannungsausgleich und Gelassenheit
DESCRIPTION:Montags fortlaufender Kurs \nSanfte Körperarbeit für Wohlgefühl\, Beweglichkeit\, Spannungsausgleich und Gelassenheit \n-mehr Körperbewußtsein erlangen \n-mehr Beweglichkeit erfahren \n-Verspannungen lösen \n-tägliches Wohlbefinden steigern \n  \nKosten: 100 € für 10 Einheiten
URL:https://www.eutonie.de/alle-kursangebote/3186-2024-04-22/2029-09-10/
LOCATION:Kindergarten St. Michael\, Kirchstraße 12\, Gutach im Breisgau\, 79261\, Deutschland
ORGANIZER;CN="Klank%2C Angelika":MAILTO:angelikaklank@web.de
GEO:48.11648;7.99199
X-APPLE-STRUCTURED-LOCATION;VALUE=URI;X-ADDRESS=Kindergarten St. Michael Kirchstraße 12 Gutach im Breisgau 79261 Deutschland;X-APPLE-RADIUS=500;X-TITLE=Kirchstraße 12:geo:7.99199,48.11648
END:VEVENT
BEGIN:VEVENT
DTSTART;TZID=Europe/Berlin:20290917T093000
DTEND;TZID=Europe/Berlin:20290917T110000
DTSTAMP:20260423T193811
CREATED:20180418T101313Z
LAST-MODIFIED:20190522T103816Z
UID:10008284-1884331800-1884337200@www.eutonie.de
SUMMARY:Eutonie am Morgen (Bad Kreuznach)
DESCRIPTION:Montags fortlaufender Kurs
URL:https://www.eutonie.de/alle-kursangebote/eutonie-am-morgen-bad-kreuznach/2029-09-17/
LOCATION:Knop\, Gartenbrunnenweg 3\, Bad Kreuznach\, 55543\, Deutschland
ORGANIZER;CN="Knop%2C Dorothee":MAILTO:dorothee.knop@gmx.de
GEO:49.8346713;7.8582538
X-APPLE-STRUCTURED-LOCATION;VALUE=URI;X-ADDRESS=Knop Gartenbrunnenweg 3 Bad Kreuznach 55543 Deutschland;X-APPLE-RADIUS=500;X-TITLE=Gartenbrunnenweg 3:geo:7.8582538,49.8346713
END:VEVENT
BEGIN:VEVENT
DTSTART;TZID=Europe/Berlin:20290917T180000
DTEND;TZID=Europe/Berlin:20290917T193000
DTSTAMP:20260423T193811
CREATED:20180418T101045Z
LAST-MODIFIED:20190522T100704Z
UID:10008285-1884362400-1884367800@www.eutonie.de
SUMMARY:Eutonie am Abend (Bad Kreuznach)
DESCRIPTION:Montags fortlaufender Kurs
URL:https://www.eutonie.de/alle-kursangebote/eutonie-am-abend-bad-kreuznach/2029-09-17/
LOCATION:Knop\, Gartenbrunnenweg 3\, Bad Kreuznach\, 55543\, Deutschland
ORGANIZER;CN="Knop%2C Dorothee":MAILTO:dorothee.knop@gmx.de
GEO:49.8346713;7.8582538
X-APPLE-STRUCTURED-LOCATION;VALUE=URI;X-ADDRESS=Knop Gartenbrunnenweg 3 Bad Kreuznach 55543 Deutschland;X-APPLE-RADIUS=500;X-TITLE=Gartenbrunnenweg 3:geo:7.8582538,49.8346713
END:VEVENT
BEGIN:VEVENT
DTSTART;TZID=Europe/Berlin:20290917T190000
DTEND;TZID=Europe/Berlin:20290917T203000
DTSTAMP:20260423T193811
CREATED:20180418T100557Z
LAST-MODIFIED:20230430T141538Z
UID:10009277-1884366000-1884371400@www.eutonie.de
SUMMARY:Sanfte Körperarbeit für Wohlgefühl\, Beweglichkeit\, Spannungsausgleich und Gelassenheit
DESCRIPTION:Montags fortlaufender Kurs \nSanfte Körperarbeit für Wohlgefühl\, Beweglichkeit\, Spannungsausgleich und Gelassenheit \n-mehr Körperbewußtsein erlangen \n-mehr Beweglichkeit erfahren \n-Verspannungen lösen \n-tägliches Wohlbefinden steigern \n  \nKosten: 100 € für 10 Einheiten
URL:https://www.eutonie.de/alle-kursangebote/3186-2024-04-22/2029-09-17/
LOCATION:Kindergarten St. Michael\, Kirchstraße 12\, Gutach im Breisgau\, 79261\, Deutschland
ORGANIZER;CN="Klank%2C Angelika":MAILTO:angelikaklank@web.de
GEO:48.11648;7.99199
X-APPLE-STRUCTURED-LOCATION;VALUE=URI;X-ADDRESS=Kindergarten St. Michael Kirchstraße 12 Gutach im Breisgau 79261 Deutschland;X-APPLE-RADIUS=500;X-TITLE=Kirchstraße 12:geo:7.99199,48.11648
END:VEVENT
BEGIN:VEVENT
DTSTART;TZID=Europe/Berlin:20290924T093000
DTEND;TZID=Europe/Berlin:20290924T110000
DTSTAMP:20260423T193811
CREATED:20180418T101313Z
LAST-MODIFIED:20190522T103816Z
UID:10008295-1884936600-1884942000@www.eutonie.de
SUMMARY:Eutonie am Morgen (Bad Kreuznach)
DESCRIPTION:Montags fortlaufender Kurs
URL:https://www.eutonie.de/alle-kursangebote/eutonie-am-morgen-bad-kreuznach/2029-09-24/
LOCATION:Knop\, Gartenbrunnenweg 3\, Bad Kreuznach\, 55543\, Deutschland
ORGANIZER;CN="Knop%2C Dorothee":MAILTO:dorothee.knop@gmx.de
GEO:49.8346713;7.8582538
X-APPLE-STRUCTURED-LOCATION;VALUE=URI;X-ADDRESS=Knop Gartenbrunnenweg 3 Bad Kreuznach 55543 Deutschland;X-APPLE-RADIUS=500;X-TITLE=Gartenbrunnenweg 3:geo:7.8582538,49.8346713
END:VEVENT
BEGIN:VEVENT
DTSTART;TZID=Europe/Berlin:20290924T180000
DTEND;TZID=Europe/Berlin:20290924T193000
DTSTAMP:20260423T193812
CREATED:20180418T101045Z
LAST-MODIFIED:20190522T100704Z
UID:10008296-1884967200-1884972600@www.eutonie.de
SUMMARY:Eutonie am Abend (Bad Kreuznach)
DESCRIPTION:Montags fortlaufender Kurs
URL:https://www.eutonie.de/alle-kursangebote/eutonie-am-abend-bad-kreuznach/2029-09-24/
LOCATION:Knop\, Gartenbrunnenweg 3\, Bad Kreuznach\, 55543\, Deutschland
ORGANIZER;CN="Knop%2C Dorothee":MAILTO:dorothee.knop@gmx.de
GEO:49.8346713;7.8582538
X-APPLE-STRUCTURED-LOCATION;VALUE=URI;X-ADDRESS=Knop Gartenbrunnenweg 3 Bad Kreuznach 55543 Deutschland;X-APPLE-RADIUS=500;X-TITLE=Gartenbrunnenweg 3:geo:7.8582538,49.8346713
END:VEVENT
BEGIN:VEVENT
DTSTART;TZID=Europe/Berlin:20290924T190000
DTEND;TZID=Europe/Berlin:20290924T203000
DTSTAMP:20260423T193812
CREATED:20180418T100557Z
LAST-MODIFIED:20230430T141538Z
UID:10009278-1884970800-1884976200@www.eutonie.de
SUMMARY:Sanfte Körperarbeit für Wohlgefühl\, Beweglichkeit\, Spannungsausgleich und Gelassenheit
DESCRIPTION:Montags fortlaufender Kurs \nSanfte Körperarbeit für Wohlgefühl\, Beweglichkeit\, Spannungsausgleich und Gelassenheit \n-mehr Körperbewußtsein erlangen \n-mehr Beweglichkeit erfahren \n-Verspannungen lösen \n-tägliches Wohlbefinden steigern \n  \nKosten: 100 € für 10 Einheiten
URL:https://www.eutonie.de/alle-kursangebote/3186-2024-04-22/2029-09-24/
LOCATION:Kindergarten St. Michael\, Kirchstraße 12\, Gutach im Breisgau\, 79261\, Deutschland
ORGANIZER;CN="Klank%2C Angelika":MAILTO:angelikaklank@web.de
GEO:48.11648;7.99199
X-APPLE-STRUCTURED-LOCATION;VALUE=URI;X-ADDRESS=Kindergarten St. Michael Kirchstraße 12 Gutach im Breisgau 79261 Deutschland;X-APPLE-RADIUS=500;X-TITLE=Kirchstraße 12:geo:7.99199,48.11648
END:VEVENT
END:VCALENDAR