BEGIN:VCALENDAR
VERSION:2.0
PRODID:-//eutonie.de - ECPv6.15.20//NONSGML v1.0//EN
CALSCALE:GREGORIAN
METHOD:PUBLISH
X-ORIGINAL-URL:https://www.eutonie.de
X-WR-CALDESC:Veranstaltungen für eutonie.de
REFRESH-INTERVAL;VALUE=DURATION:PT1H
X-Robots-Tag:noindex
X-PUBLISHED-TTL:PT1H
BEGIN:VTIMEZONE
TZID:Europe/Berlin
BEGIN:DAYLIGHT
TZOFFSETFROM:+0100
TZOFFSETTO:+0200
TZNAME:CEST
DTSTART:20230326T010000
END:DAYLIGHT
BEGIN:STANDARD
TZOFFSETFROM:+0200
TZOFFSETTO:+0100
TZNAME:CET
DTSTART:20231029T010000
END:STANDARD
BEGIN:DAYLIGHT
TZOFFSETFROM:+0100
TZOFFSETTO:+0200
TZNAME:CEST
DTSTART:20240331T010000
END:DAYLIGHT
BEGIN:STANDARD
TZOFFSETFROM:+0200
TZOFFSETTO:+0100
TZNAME:CET
DTSTART:20241027T010000
END:STANDARD
BEGIN:DAYLIGHT
TZOFFSETFROM:+0100
TZOFFSETTO:+0200
TZNAME:CEST
DTSTART:20250330T010000
END:DAYLIGHT
BEGIN:STANDARD
TZOFFSETFROM:+0200
TZOFFSETTO:+0100
TZNAME:CET
DTSTART:20251026T010000
END:STANDARD
END:VTIMEZONE
BEGIN:VEVENT
DTSTART;TZID=Europe/Berlin:20240401T190000
DTEND;TZID=Europe/Berlin:20240401T203000
DTSTAMP:20260423T202216
CREATED:20180418T100557Z
LAST-MODIFIED:20230430T141538Z
UID:10004231-1711998000-1712003400@www.eutonie.de
SUMMARY:Sanfte Körperarbeit für Wohlgefühl\, Beweglichkeit\, Spannungsausgleich und Gelassenheit
DESCRIPTION:Montags fortlaufender Kurs \nSanfte Körperarbeit für Wohlgefühl\, Beweglichkeit\, Spannungsausgleich und Gelassenheit \n-mehr Körperbewußtsein erlangen \n-mehr Beweglichkeit erfahren \n-Verspannungen lösen \n-tägliches Wohlbefinden steigern \n  \nKosten: 100 € für 10 Einheiten
URL:https://www.eutonie.de/alle-kursangebote/3186-2024-04-22/2024-04-01/
LOCATION:Kindergarten St. Michael\, Kirchstraße 12\, Gutach im Breisgau\, 79261\, Deutschland
ORGANIZER;CN="Klank%2C Angelika":MAILTO:angelikaklank@web.de
GEO:48.11648;7.99199
X-APPLE-STRUCTURED-LOCATION;VALUE=URI;X-ADDRESS=Kindergarten St. Michael Kirchstraße 12 Gutach im Breisgau 79261 Deutschland;X-APPLE-RADIUS=500;X-TITLE=Kirchstraße 12:geo:7.99199,48.11648
END:VEVENT
BEGIN:VEVENT
DTSTART;TZID=Europe/Berlin:20240408T190000
DTEND;TZID=Europe/Berlin:20240408T203000
DTSTAMP:20260423T202216
CREATED:20180418T100557Z
LAST-MODIFIED:20230430T141538Z
UID:10004232-1712602800-1712608200@www.eutonie.de
SUMMARY:Sanfte Körperarbeit für Wohlgefühl\, Beweglichkeit\, Spannungsausgleich und Gelassenheit
DESCRIPTION:Montags fortlaufender Kurs \nSanfte Körperarbeit für Wohlgefühl\, Beweglichkeit\, Spannungsausgleich und Gelassenheit \n-mehr Körperbewußtsein erlangen \n-mehr Beweglichkeit erfahren \n-Verspannungen lösen \n-tägliches Wohlbefinden steigern \n  \nKosten: 100 € für 10 Einheiten
URL:https://www.eutonie.de/alle-kursangebote/3186-2024-04-22/2024-04-08/
LOCATION:Kindergarten St. Michael\, Kirchstraße 12\, Gutach im Breisgau\, 79261\, Deutschland
ORGANIZER;CN="Klank%2C Angelika":MAILTO:angelikaklank@web.de
GEO:48.11648;7.99199
X-APPLE-STRUCTURED-LOCATION;VALUE=URI;X-ADDRESS=Kindergarten St. Michael Kirchstraße 12 Gutach im Breisgau 79261 Deutschland;X-APPLE-RADIUS=500;X-TITLE=Kirchstraße 12:geo:7.99199,48.11648
END:VEVENT
BEGIN:VEVENT
DTSTART;TZID=Europe/Berlin:20240415T190000
DTEND;TZID=Europe/Berlin:20240415T203000
DTSTAMP:20260423T202216
CREATED:20180418T100557Z
LAST-MODIFIED:20230430T141538Z
UID:10004233-1713207600-1713213000@www.eutonie.de
SUMMARY:Sanfte Körperarbeit für Wohlgefühl\, Beweglichkeit\, Spannungsausgleich und Gelassenheit
DESCRIPTION:Montags fortlaufender Kurs \nSanfte Körperarbeit für Wohlgefühl\, Beweglichkeit\, Spannungsausgleich und Gelassenheit \n-mehr Körperbewußtsein erlangen \n-mehr Beweglichkeit erfahren \n-Verspannungen lösen \n-tägliches Wohlbefinden steigern \n  \nKosten: 100 € für 10 Einheiten
URL:https://www.eutonie.de/alle-kursangebote/3186-2024-04-22/2024-04-15/
LOCATION:Kindergarten St. Michael\, Kirchstraße 12\, Gutach im Breisgau\, 79261\, Deutschland
ORGANIZER;CN="Klank%2C Angelika":MAILTO:angelikaklank@web.de
GEO:48.11648;7.99199
X-APPLE-STRUCTURED-LOCATION;VALUE=URI;X-ADDRESS=Kindergarten St. Michael Kirchstraße 12 Gutach im Breisgau 79261 Deutschland;X-APPLE-RADIUS=500;X-TITLE=Kirchstraße 12:geo:7.99199,48.11648
END:VEVENT
BEGIN:VEVENT
DTSTART;TZID=Europe/Berlin:20240422T190000
DTEND;TZID=Europe/Berlin:20240422T203000
DTSTAMP:20260423T202216
CREATED:20180418T100557Z
LAST-MODIFIED:20230430T141538Z
UID:10004234-1713812400-1713817800@www.eutonie.de
SUMMARY:Sanfte Körperarbeit für Wohlgefühl\, Beweglichkeit\, Spannungsausgleich und Gelassenheit
DESCRIPTION:Montags fortlaufender Kurs \nSanfte Körperarbeit für Wohlgefühl\, Beweglichkeit\, Spannungsausgleich und Gelassenheit \n-mehr Körperbewußtsein erlangen \n-mehr Beweglichkeit erfahren \n-Verspannungen lösen \n-tägliches Wohlbefinden steigern \n  \nKosten: 100 € für 10 Einheiten
URL:https://www.eutonie.de/alle-kursangebote/3186-2024-04-22/2024-04-22/
LOCATION:Kindergarten St. Michael\, Kirchstraße 12\, Gutach im Breisgau\, 79261\, Deutschland
ORGANIZER;CN="Klank%2C Angelika":MAILTO:angelikaklank@web.de
GEO:48.11648;7.99199
X-APPLE-STRUCTURED-LOCATION;VALUE=URI;X-ADDRESS=Kindergarten St. Michael Kirchstraße 12 Gutach im Breisgau 79261 Deutschland;X-APPLE-RADIUS=500;X-TITLE=Kirchstraße 12:geo:7.99199,48.11648
END:VEVENT
BEGIN:VEVENT
DTSTART;TZID=Europe/Berlin:20240429T190000
DTEND;TZID=Europe/Berlin:20240429T203000
DTSTAMP:20260423T202216
CREATED:20180418T100557Z
LAST-MODIFIED:20230430T141538Z
UID:10004235-1714417200-1714422600@www.eutonie.de
SUMMARY:Sanfte Körperarbeit für Wohlgefühl\, Beweglichkeit\, Spannungsausgleich und Gelassenheit
DESCRIPTION:Montags fortlaufender Kurs \nSanfte Körperarbeit für Wohlgefühl\, Beweglichkeit\, Spannungsausgleich und Gelassenheit \n-mehr Körperbewußtsein erlangen \n-mehr Beweglichkeit erfahren \n-Verspannungen lösen \n-tägliches Wohlbefinden steigern \n  \nKosten: 100 € für 10 Einheiten
URL:https://www.eutonie.de/alle-kursangebote/3186-2024-04-22/2024-04-29/
LOCATION:Kindergarten St. Michael\, Kirchstraße 12\, Gutach im Breisgau\, 79261\, Deutschland
ORGANIZER;CN="Klank%2C Angelika":MAILTO:angelikaklank@web.de
GEO:48.11648;7.99199
X-APPLE-STRUCTURED-LOCATION;VALUE=URI;X-ADDRESS=Kindergarten St. Michael Kirchstraße 12 Gutach im Breisgau 79261 Deutschland;X-APPLE-RADIUS=500;X-TITLE=Kirchstraße 12:geo:7.99199,48.11648
END:VEVENT
END:VCALENDAR