BEGIN:VCALENDAR
VERSION:2.0
PRODID:-//eutonie.de - ECPv6.15.20//NONSGML v1.0//EN
CALSCALE:GREGORIAN
METHOD:PUBLISH
X-WR-CALNAME:eutonie.de
X-ORIGINAL-URL:https://www.eutonie.de
X-WR-CALDESC:Veranstaltungen für eutonie.de
REFRESH-INTERVAL;VALUE=DURATION:PT1H
X-Robots-Tag:noindex
X-PUBLISHED-TTL:PT1H
BEGIN:VTIMEZONE
TZID:Europe/Berlin
BEGIN:DAYLIGHT
TZOFFSETFROM:+0100
TZOFFSETTO:+0200
TZNAME:CEST
DTSTART:20230326T010000
END:DAYLIGHT
BEGIN:STANDARD
TZOFFSETFROM:+0200
TZOFFSETTO:+0100
TZNAME:CET
DTSTART:20231029T010000
END:STANDARD
BEGIN:DAYLIGHT
TZOFFSETFROM:+0100
TZOFFSETTO:+0200
TZNAME:CEST
DTSTART:20240331T010000
END:DAYLIGHT
BEGIN:STANDARD
TZOFFSETFROM:+0200
TZOFFSETTO:+0100
TZNAME:CET
DTSTART:20241027T010000
END:STANDARD
BEGIN:DAYLIGHT
TZOFFSETFROM:+0100
TZOFFSETTO:+0200
TZNAME:CEST
DTSTART:20250330T010000
END:DAYLIGHT
BEGIN:STANDARD
TZOFFSETFROM:+0200
TZOFFSETTO:+0100
TZNAME:CET
DTSTART:20251026T010000
END:STANDARD
END:VTIMEZONE
BEGIN:VEVENT
DTSTART;TZID=Europe/Berlin:20241202T093000
DTEND;TZID=Europe/Berlin:20241202T110000
DTSTAMP:20260421T201639
CREATED:20180418T101313Z
LAST-MODIFIED:20190522T103816Z
UID:10002112-1733131800-1733137200@www.eutonie.de
SUMMARY:Eutonie am Morgen (Bad Kreuznach)
DESCRIPTION:Montags fortlaufender Kurs
URL:https://www.eutonie.de/alle-kursangebote/eutonie-am-morgen-bad-kreuznach/2024-12-02/
LOCATION:Knop\, Gartenbrunnenweg 3\, Bad Kreuznach\, 55543\, Deutschland
ORGANIZER;CN="Knop%2C Dorothee":MAILTO:dorothee.knop@gmx.de
GEO:49.8346713;7.8582538
X-APPLE-STRUCTURED-LOCATION;VALUE=URI;X-ADDRESS=Knop Gartenbrunnenweg 3 Bad Kreuznach 55543 Deutschland;X-APPLE-RADIUS=500;X-TITLE=Gartenbrunnenweg 3:geo:7.8582538,49.8346713
END:VEVENT
BEGIN:VEVENT
DTSTART;TZID=Europe/Berlin:20241202T180000
DTEND;TZID=Europe/Berlin:20241202T193000
DTSTAMP:20260421T201639
CREATED:20180418T101045Z
LAST-MODIFIED:20190522T100704Z
UID:10001744-1733162400-1733167800@www.eutonie.de
SUMMARY:Eutonie am Abend (Bad Kreuznach)
DESCRIPTION:Montags fortlaufender Kurs
URL:https://www.eutonie.de/alle-kursangebote/eutonie-am-abend-bad-kreuznach/2024-12-02/
LOCATION:Knop\, Gartenbrunnenweg 3\, Bad Kreuznach\, 55543\, Deutschland
ORGANIZER;CN="Knop%2C Dorothee":MAILTO:dorothee.knop@gmx.de
GEO:49.8346713;7.8582538
X-APPLE-STRUCTURED-LOCATION;VALUE=URI;X-ADDRESS=Knop Gartenbrunnenweg 3 Bad Kreuznach 55543 Deutschland;X-APPLE-RADIUS=500;X-TITLE=Gartenbrunnenweg 3:geo:7.8582538,49.8346713
END:VEVENT
BEGIN:VEVENT
DTSTART;TZID=Europe/Berlin:20241202T190000
DTEND;TZID=Europe/Berlin:20241202T203000
DTSTAMP:20260421T201639
CREATED:20180418T100557Z
LAST-MODIFIED:20230430T141538Z
UID:10004266-1733166000-1733171400@www.eutonie.de
SUMMARY:Sanfte Körperarbeit für Wohlgefühl\, Beweglichkeit\, Spannungsausgleich und Gelassenheit
DESCRIPTION:Montags fortlaufender Kurs \nSanfte Körperarbeit für Wohlgefühl\, Beweglichkeit\, Spannungsausgleich und Gelassenheit \n-mehr Körperbewußtsein erlangen \n-mehr Beweglichkeit erfahren \n-Verspannungen lösen \n-tägliches Wohlbefinden steigern \n  \nKosten: 100 € für 10 Einheiten
URL:https://www.eutonie.de/alle-kursangebote/3186-2024-04-22/2024-12-02/
LOCATION:Kindergarten St. Michael\, Kirchstraße 12\, Gutach im Breisgau\, 79261\, Deutschland
ORGANIZER;CN="Klank%2C Angelika":MAILTO:angelikaklank@web.de
GEO:48.11648;7.99199
X-APPLE-STRUCTURED-LOCATION;VALUE=URI;X-ADDRESS=Kindergarten St. Michael Kirchstraße 12 Gutach im Breisgau 79261 Deutschland;X-APPLE-RADIUS=500;X-TITLE=Kirchstraße 12:geo:7.99199,48.11648
END:VEVENT
BEGIN:VEVENT
DTSTART;TZID=Europe/Berlin:20241209T093000
DTEND;TZID=Europe/Berlin:20241209T110000
DTSTAMP:20260421T201639
CREATED:20180418T101313Z
LAST-MODIFIED:20190522T103816Z
UID:10002113-1733736600-1733742000@www.eutonie.de
SUMMARY:Eutonie am Morgen (Bad Kreuznach)
DESCRIPTION:Montags fortlaufender Kurs
URL:https://www.eutonie.de/alle-kursangebote/eutonie-am-morgen-bad-kreuznach/2024-12-09/
LOCATION:Knop\, Gartenbrunnenweg 3\, Bad Kreuznach\, 55543\, Deutschland
ORGANIZER;CN="Knop%2C Dorothee":MAILTO:dorothee.knop@gmx.de
GEO:49.8346713;7.8582538
X-APPLE-STRUCTURED-LOCATION;VALUE=URI;X-ADDRESS=Knop Gartenbrunnenweg 3 Bad Kreuznach 55543 Deutschland;X-APPLE-RADIUS=500;X-TITLE=Gartenbrunnenweg 3:geo:7.8582538,49.8346713
END:VEVENT
BEGIN:VEVENT
DTSTART;TZID=Europe/Berlin:20241209T180000
DTEND;TZID=Europe/Berlin:20241209T193000
DTSTAMP:20260421T201639
CREATED:20180418T101045Z
LAST-MODIFIED:20190522T100704Z
UID:10001745-1733767200-1733772600@www.eutonie.de
SUMMARY:Eutonie am Abend (Bad Kreuznach)
DESCRIPTION:Montags fortlaufender Kurs
URL:https://www.eutonie.de/alle-kursangebote/eutonie-am-abend-bad-kreuznach/2024-12-09/
LOCATION:Knop\, Gartenbrunnenweg 3\, Bad Kreuznach\, 55543\, Deutschland
ORGANIZER;CN="Knop%2C Dorothee":MAILTO:dorothee.knop@gmx.de
GEO:49.8346713;7.8582538
X-APPLE-STRUCTURED-LOCATION;VALUE=URI;X-ADDRESS=Knop Gartenbrunnenweg 3 Bad Kreuznach 55543 Deutschland;X-APPLE-RADIUS=500;X-TITLE=Gartenbrunnenweg 3:geo:7.8582538,49.8346713
END:VEVENT
BEGIN:VEVENT
DTSTART;TZID=Europe/Berlin:20241209T190000
DTEND;TZID=Europe/Berlin:20241209T203000
DTSTAMP:20260421T201639
CREATED:20180418T100557Z
LAST-MODIFIED:20230430T141538Z
UID:10004267-1733770800-1733776200@www.eutonie.de
SUMMARY:Sanfte Körperarbeit für Wohlgefühl\, Beweglichkeit\, Spannungsausgleich und Gelassenheit
DESCRIPTION:Montags fortlaufender Kurs \nSanfte Körperarbeit für Wohlgefühl\, Beweglichkeit\, Spannungsausgleich und Gelassenheit \n-mehr Körperbewußtsein erlangen \n-mehr Beweglichkeit erfahren \n-Verspannungen lösen \n-tägliches Wohlbefinden steigern \n  \nKosten: 100 € für 10 Einheiten
URL:https://www.eutonie.de/alle-kursangebote/3186-2024-04-22/2024-12-09/
LOCATION:Kindergarten St. Michael\, Kirchstraße 12\, Gutach im Breisgau\, 79261\, Deutschland
ORGANIZER;CN="Klank%2C Angelika":MAILTO:angelikaklank@web.de
GEO:48.11648;7.99199
X-APPLE-STRUCTURED-LOCATION;VALUE=URI;X-ADDRESS=Kindergarten St. Michael Kirchstraße 12 Gutach im Breisgau 79261 Deutschland;X-APPLE-RADIUS=500;X-TITLE=Kirchstraße 12:geo:7.99199,48.11648
END:VEVENT
BEGIN:VEVENT
DTSTART;TZID=Europe/Berlin:20241216T093000
DTEND;TZID=Europe/Berlin:20241216T110000
DTSTAMP:20260421T201639
CREATED:20180418T101313Z
LAST-MODIFIED:20190522T103816Z
UID:10002114-1734341400-1734346800@www.eutonie.de
SUMMARY:Eutonie am Morgen (Bad Kreuznach)
DESCRIPTION:Montags fortlaufender Kurs
URL:https://www.eutonie.de/alle-kursangebote/eutonie-am-morgen-bad-kreuznach/2024-12-16/
LOCATION:Knop\, Gartenbrunnenweg 3\, Bad Kreuznach\, 55543\, Deutschland
ORGANIZER;CN="Knop%2C Dorothee":MAILTO:dorothee.knop@gmx.de
GEO:49.8346713;7.8582538
X-APPLE-STRUCTURED-LOCATION;VALUE=URI;X-ADDRESS=Knop Gartenbrunnenweg 3 Bad Kreuznach 55543 Deutschland;X-APPLE-RADIUS=500;X-TITLE=Gartenbrunnenweg 3:geo:7.8582538,49.8346713
END:VEVENT
BEGIN:VEVENT
DTSTART;TZID=Europe/Berlin:20241216T180000
DTEND;TZID=Europe/Berlin:20241216T193000
DTSTAMP:20260421T201639
CREATED:20180418T101045Z
LAST-MODIFIED:20190522T100704Z
UID:10001746-1734372000-1734377400@www.eutonie.de
SUMMARY:Eutonie am Abend (Bad Kreuznach)
DESCRIPTION:Montags fortlaufender Kurs
URL:https://www.eutonie.de/alle-kursangebote/eutonie-am-abend-bad-kreuznach/2024-12-16/
LOCATION:Knop\, Gartenbrunnenweg 3\, Bad Kreuznach\, 55543\, Deutschland
ORGANIZER;CN="Knop%2C Dorothee":MAILTO:dorothee.knop@gmx.de
GEO:49.8346713;7.8582538
X-APPLE-STRUCTURED-LOCATION;VALUE=URI;X-ADDRESS=Knop Gartenbrunnenweg 3 Bad Kreuznach 55543 Deutschland;X-APPLE-RADIUS=500;X-TITLE=Gartenbrunnenweg 3:geo:7.8582538,49.8346713
END:VEVENT
BEGIN:VEVENT
DTSTART;TZID=Europe/Berlin:20241216T190000
DTEND;TZID=Europe/Berlin:20241216T203000
DTSTAMP:20260421T201639
CREATED:20180418T100557Z
LAST-MODIFIED:20230430T141538Z
UID:10004268-1734375600-1734381000@www.eutonie.de
SUMMARY:Sanfte Körperarbeit für Wohlgefühl\, Beweglichkeit\, Spannungsausgleich und Gelassenheit
DESCRIPTION:Montags fortlaufender Kurs \nSanfte Körperarbeit für Wohlgefühl\, Beweglichkeit\, Spannungsausgleich und Gelassenheit \n-mehr Körperbewußtsein erlangen \n-mehr Beweglichkeit erfahren \n-Verspannungen lösen \n-tägliches Wohlbefinden steigern \n  \nKosten: 100 € für 10 Einheiten
URL:https://www.eutonie.de/alle-kursangebote/3186-2024-04-22/2024-12-16/
LOCATION:Kindergarten St. Michael\, Kirchstraße 12\, Gutach im Breisgau\, 79261\, Deutschland
ORGANIZER;CN="Klank%2C Angelika":MAILTO:angelikaklank@web.de
GEO:48.11648;7.99199
X-APPLE-STRUCTURED-LOCATION;VALUE=URI;X-ADDRESS=Kindergarten St. Michael Kirchstraße 12 Gutach im Breisgau 79261 Deutschland;X-APPLE-RADIUS=500;X-TITLE=Kirchstraße 12:geo:7.99199,48.11648
END:VEVENT
BEGIN:VEVENT
DTSTART;TZID=Europe/Berlin:20241223T093000
DTEND;TZID=Europe/Berlin:20241223T110000
DTSTAMP:20260421T201639
CREATED:20180418T101313Z
LAST-MODIFIED:20190522T103816Z
UID:10002115-1734946200-1734951600@www.eutonie.de
SUMMARY:Eutonie am Morgen (Bad Kreuznach)
DESCRIPTION:Montags fortlaufender Kurs
URL:https://www.eutonie.de/alle-kursangebote/eutonie-am-morgen-bad-kreuznach/2024-12-23/
LOCATION:Knop\, Gartenbrunnenweg 3\, Bad Kreuznach\, 55543\, Deutschland
ORGANIZER;CN="Knop%2C Dorothee":MAILTO:dorothee.knop@gmx.de
GEO:49.8346713;7.8582538
X-APPLE-STRUCTURED-LOCATION;VALUE=URI;X-ADDRESS=Knop Gartenbrunnenweg 3 Bad Kreuznach 55543 Deutschland;X-APPLE-RADIUS=500;X-TITLE=Gartenbrunnenweg 3:geo:7.8582538,49.8346713
END:VEVENT
BEGIN:VEVENT
DTSTART;TZID=Europe/Berlin:20241223T180000
DTEND;TZID=Europe/Berlin:20241223T193000
DTSTAMP:20260421T201639
CREATED:20180418T101045Z
LAST-MODIFIED:20190522T100704Z
UID:10001747-1734976800-1734982200@www.eutonie.de
SUMMARY:Eutonie am Abend (Bad Kreuznach)
DESCRIPTION:Montags fortlaufender Kurs
URL:https://www.eutonie.de/alle-kursangebote/eutonie-am-abend-bad-kreuznach/2024-12-23/
LOCATION:Knop\, Gartenbrunnenweg 3\, Bad Kreuznach\, 55543\, Deutschland
ORGANIZER;CN="Knop%2C Dorothee":MAILTO:dorothee.knop@gmx.de
GEO:49.8346713;7.8582538
X-APPLE-STRUCTURED-LOCATION;VALUE=URI;X-ADDRESS=Knop Gartenbrunnenweg 3 Bad Kreuznach 55543 Deutschland;X-APPLE-RADIUS=500;X-TITLE=Gartenbrunnenweg 3:geo:7.8582538,49.8346713
END:VEVENT
BEGIN:VEVENT
DTSTART;TZID=Europe/Berlin:20241223T190000
DTEND;TZID=Europe/Berlin:20241223T203000
DTSTAMP:20260421T201639
CREATED:20180418T100557Z
LAST-MODIFIED:20230430T141538Z
UID:10004269-1734980400-1734985800@www.eutonie.de
SUMMARY:Sanfte Körperarbeit für Wohlgefühl\, Beweglichkeit\, Spannungsausgleich und Gelassenheit
DESCRIPTION:Montags fortlaufender Kurs \nSanfte Körperarbeit für Wohlgefühl\, Beweglichkeit\, Spannungsausgleich und Gelassenheit \n-mehr Körperbewußtsein erlangen \n-mehr Beweglichkeit erfahren \n-Verspannungen lösen \n-tägliches Wohlbefinden steigern \n  \nKosten: 100 € für 10 Einheiten
URL:https://www.eutonie.de/alle-kursangebote/3186-2024-04-22/2024-12-23/
LOCATION:Kindergarten St. Michael\, Kirchstraße 12\, Gutach im Breisgau\, 79261\, Deutschland
ORGANIZER;CN="Klank%2C Angelika":MAILTO:angelikaklank@web.de
GEO:48.11648;7.99199
X-APPLE-STRUCTURED-LOCATION;VALUE=URI;X-ADDRESS=Kindergarten St. Michael Kirchstraße 12 Gutach im Breisgau 79261 Deutschland;X-APPLE-RADIUS=500;X-TITLE=Kirchstraße 12:geo:7.99199,48.11648
END:VEVENT
BEGIN:VEVENT
DTSTART;TZID=Europe/Berlin:20241230T093000
DTEND;TZID=Europe/Berlin:20241230T110000
DTSTAMP:20260421T201639
CREATED:20180418T101313Z
LAST-MODIFIED:20190522T103816Z
UID:10002116-1735551000-1735556400@www.eutonie.de
SUMMARY:Eutonie am Morgen (Bad Kreuznach)
DESCRIPTION:Montags fortlaufender Kurs
URL:https://www.eutonie.de/alle-kursangebote/eutonie-am-morgen-bad-kreuznach/2024-12-30/
LOCATION:Knop\, Gartenbrunnenweg 3\, Bad Kreuznach\, 55543\, Deutschland
ORGANIZER;CN="Knop%2C Dorothee":MAILTO:dorothee.knop@gmx.de
GEO:49.8346713;7.8582538
X-APPLE-STRUCTURED-LOCATION;VALUE=URI;X-ADDRESS=Knop Gartenbrunnenweg 3 Bad Kreuznach 55543 Deutschland;X-APPLE-RADIUS=500;X-TITLE=Gartenbrunnenweg 3:geo:7.8582538,49.8346713
END:VEVENT
BEGIN:VEVENT
DTSTART;TZID=Europe/Berlin:20241230T180000
DTEND;TZID=Europe/Berlin:20241230T193000
DTSTAMP:20260421T201639
CREATED:20180418T101045Z
LAST-MODIFIED:20190522T100704Z
UID:10001748-1735581600-1735587000@www.eutonie.de
SUMMARY:Eutonie am Abend (Bad Kreuznach)
DESCRIPTION:Montags fortlaufender Kurs
URL:https://www.eutonie.de/alle-kursangebote/eutonie-am-abend-bad-kreuznach/2024-12-30/
LOCATION:Knop\, Gartenbrunnenweg 3\, Bad Kreuznach\, 55543\, Deutschland
ORGANIZER;CN="Knop%2C Dorothee":MAILTO:dorothee.knop@gmx.de
GEO:49.8346713;7.8582538
X-APPLE-STRUCTURED-LOCATION;VALUE=URI;X-ADDRESS=Knop Gartenbrunnenweg 3 Bad Kreuznach 55543 Deutschland;X-APPLE-RADIUS=500;X-TITLE=Gartenbrunnenweg 3:geo:7.8582538,49.8346713
END:VEVENT
BEGIN:VEVENT
DTSTART;TZID=Europe/Berlin:20241230T190000
DTEND;TZID=Europe/Berlin:20241230T203000
DTSTAMP:20260421T201639
CREATED:20180418T100557Z
LAST-MODIFIED:20230430T141538Z
UID:10004270-1735585200-1735590600@www.eutonie.de
SUMMARY:Sanfte Körperarbeit für Wohlgefühl\, Beweglichkeit\, Spannungsausgleich und Gelassenheit
DESCRIPTION:Montags fortlaufender Kurs \nSanfte Körperarbeit für Wohlgefühl\, Beweglichkeit\, Spannungsausgleich und Gelassenheit \n-mehr Körperbewußtsein erlangen \n-mehr Beweglichkeit erfahren \n-Verspannungen lösen \n-tägliches Wohlbefinden steigern \n  \nKosten: 100 € für 10 Einheiten
URL:https://www.eutonie.de/alle-kursangebote/3186-2024-04-22/2024-12-30/
LOCATION:Kindergarten St. Michael\, Kirchstraße 12\, Gutach im Breisgau\, 79261\, Deutschland
ORGANIZER;CN="Klank%2C Angelika":MAILTO:angelikaklank@web.de
GEO:48.11648;7.99199
X-APPLE-STRUCTURED-LOCATION;VALUE=URI;X-ADDRESS=Kindergarten St. Michael Kirchstraße 12 Gutach im Breisgau 79261 Deutschland;X-APPLE-RADIUS=500;X-TITLE=Kirchstraße 12:geo:7.99199,48.11648
END:VEVENT
END:VCALENDAR