BEGIN:VCALENDAR
VERSION:2.0
PRODID:-//eutonie.de - ECPv6.15.20//NONSGML v1.0//EN
CALSCALE:GREGORIAN
METHOD:PUBLISH
X-WR-CALNAME:eutonie.de
X-ORIGINAL-URL:https://www.eutonie.de
X-WR-CALDESC:Veranstaltungen für eutonie.de
REFRESH-INTERVAL;VALUE=DURATION:PT1H
X-Robots-Tag:noindex
X-PUBLISHED-TTL:PT1H
BEGIN:VTIMEZONE
TZID:Europe/Berlin
BEGIN:DAYLIGHT
TZOFFSETFROM:+0100
TZOFFSETTO:+0200
TZNAME:CEST
DTSTART:20270328T010000
END:DAYLIGHT
BEGIN:STANDARD
TZOFFSETFROM:+0200
TZOFFSETTO:+0100
TZNAME:CET
DTSTART:20271031T010000
END:STANDARD
BEGIN:DAYLIGHT
TZOFFSETFROM:+0100
TZOFFSETTO:+0200
TZNAME:CEST
DTSTART:20280326T010000
END:DAYLIGHT
BEGIN:STANDARD
TZOFFSETFROM:+0200
TZOFFSETTO:+0100
TZNAME:CET
DTSTART:20281029T010000
END:STANDARD
BEGIN:DAYLIGHT
TZOFFSETFROM:+0100
TZOFFSETTO:+0200
TZNAME:CEST
DTSTART:20290325T010000
END:DAYLIGHT
BEGIN:STANDARD
TZOFFSETFROM:+0200
TZOFFSETTO:+0100
TZNAME:CET
DTSTART:20291028T010000
END:STANDARD
END:VTIMEZONE
BEGIN:VEVENT
DTSTART;TZID=Europe/Berlin:20280207T093000
DTEND;TZID=Europe/Berlin:20280207T110000
DTSTAMP:20260422T072953
CREATED:20180418T101313Z
LAST-MODIFIED:20190522T103816Z
UID:10005433-1833528600-1833534000@www.eutonie.de
SUMMARY:Eutonie am Morgen (Bad Kreuznach)
DESCRIPTION:Montags fortlaufender Kurs
URL:https://www.eutonie.de/alle-kursangebote/eutonie-am-morgen-bad-kreuznach/2028-02-07/
LOCATION:Knop\, Gartenbrunnenweg 3\, Bad Kreuznach\, 55543\, Deutschland
ORGANIZER;CN="Knop%2C Dorothee":MAILTO:dorothee.knop@gmx.de
GEO:49.8346713;7.8582538
X-APPLE-STRUCTURED-LOCATION;VALUE=URI;X-ADDRESS=Knop Gartenbrunnenweg 3 Bad Kreuznach 55543 Deutschland;X-APPLE-RADIUS=500;X-TITLE=Gartenbrunnenweg 3:geo:7.8582538,49.8346713
END:VEVENT
BEGIN:VEVENT
DTSTART;TZID=Europe/Berlin:20280207T180000
DTEND;TZID=Europe/Berlin:20280207T193000
DTSTAMP:20260422T072953
CREATED:20180418T101045Z
LAST-MODIFIED:20190522T100704Z
UID:10005643-1833559200-1833564600@www.eutonie.de
SUMMARY:Eutonie am Abend (Bad Kreuznach)
DESCRIPTION:Montags fortlaufender Kurs
URL:https://www.eutonie.de/alle-kursangebote/eutonie-am-abend-bad-kreuznach/2028-02-07/
LOCATION:Knop\, Gartenbrunnenweg 3\, Bad Kreuznach\, 55543\, Deutschland
ORGANIZER;CN="Knop%2C Dorothee":MAILTO:dorothee.knop@gmx.de
GEO:49.8346713;7.8582538
X-APPLE-STRUCTURED-LOCATION;VALUE=URI;X-ADDRESS=Knop Gartenbrunnenweg 3 Bad Kreuznach 55543 Deutschland;X-APPLE-RADIUS=500;X-TITLE=Gartenbrunnenweg 3:geo:7.8582538,49.8346713
END:VEVENT
BEGIN:VEVENT
DTSTART;TZID=Europe/Berlin:20280207T190000
DTEND;TZID=Europe/Berlin:20280207T203000
DTSTAMP:20260422T072953
CREATED:20180418T100557Z
LAST-MODIFIED:20230430T141538Z
UID:10009193-1833562800-1833568200@www.eutonie.de
SUMMARY:Sanfte Körperarbeit für Wohlgefühl\, Beweglichkeit\, Spannungsausgleich und Gelassenheit
DESCRIPTION:Montags fortlaufender Kurs \nSanfte Körperarbeit für Wohlgefühl\, Beweglichkeit\, Spannungsausgleich und Gelassenheit \n-mehr Körperbewußtsein erlangen \n-mehr Beweglichkeit erfahren \n-Verspannungen lösen \n-tägliches Wohlbefinden steigern \n  \nKosten: 100 € für 10 Einheiten
URL:https://www.eutonie.de/alle-kursangebote/3186-2024-04-22/2028-02-07/
LOCATION:Kindergarten St. Michael\, Kirchstraße 12\, Gutach im Breisgau\, 79261\, Deutschland
ORGANIZER;CN="Klank%2C Angelika":MAILTO:angelikaklank@web.de
GEO:48.11648;7.99199
X-APPLE-STRUCTURED-LOCATION;VALUE=URI;X-ADDRESS=Kindergarten St. Michael Kirchstraße 12 Gutach im Breisgau 79261 Deutschland;X-APPLE-RADIUS=500;X-TITLE=Kirchstraße 12:geo:7.99199,48.11648
END:VEVENT
BEGIN:VEVENT
DTSTART;TZID=Europe/Berlin:20280214T093000
DTEND;TZID=Europe/Berlin:20280214T110000
DTSTAMP:20260422T072953
CREATED:20180418T101313Z
LAST-MODIFIED:20190522T103816Z
UID:10005434-1834133400-1834138800@www.eutonie.de
SUMMARY:Eutonie am Morgen (Bad Kreuznach)
DESCRIPTION:Montags fortlaufender Kurs
URL:https://www.eutonie.de/alle-kursangebote/eutonie-am-morgen-bad-kreuznach/2028-02-14/
LOCATION:Knop\, Gartenbrunnenweg 3\, Bad Kreuznach\, 55543\, Deutschland
ORGANIZER;CN="Knop%2C Dorothee":MAILTO:dorothee.knop@gmx.de
GEO:49.8346713;7.8582538
X-APPLE-STRUCTURED-LOCATION;VALUE=URI;X-ADDRESS=Knop Gartenbrunnenweg 3 Bad Kreuznach 55543 Deutschland;X-APPLE-RADIUS=500;X-TITLE=Gartenbrunnenweg 3:geo:7.8582538,49.8346713
END:VEVENT
BEGIN:VEVENT
DTSTART;TZID=Europe/Berlin:20280214T180000
DTEND;TZID=Europe/Berlin:20280214T193000
DTSTAMP:20260422T072953
CREATED:20180418T101045Z
LAST-MODIFIED:20190522T100704Z
UID:10005644-1834164000-1834169400@www.eutonie.de
SUMMARY:Eutonie am Abend (Bad Kreuznach)
DESCRIPTION:Montags fortlaufender Kurs
URL:https://www.eutonie.de/alle-kursangebote/eutonie-am-abend-bad-kreuznach/2028-02-14/
LOCATION:Knop\, Gartenbrunnenweg 3\, Bad Kreuznach\, 55543\, Deutschland
ORGANIZER;CN="Knop%2C Dorothee":MAILTO:dorothee.knop@gmx.de
GEO:49.8346713;7.8582538
X-APPLE-STRUCTURED-LOCATION;VALUE=URI;X-ADDRESS=Knop Gartenbrunnenweg 3 Bad Kreuznach 55543 Deutschland;X-APPLE-RADIUS=500;X-TITLE=Gartenbrunnenweg 3:geo:7.8582538,49.8346713
END:VEVENT
BEGIN:VEVENT
DTSTART;TZID=Europe/Berlin:20280214T190000
DTEND;TZID=Europe/Berlin:20280214T203000
DTSTAMP:20260422T072953
CREATED:20180418T100557Z
LAST-MODIFIED:20230430T141538Z
UID:10009194-1834167600-1834173000@www.eutonie.de
SUMMARY:Sanfte Körperarbeit für Wohlgefühl\, Beweglichkeit\, Spannungsausgleich und Gelassenheit
DESCRIPTION:Montags fortlaufender Kurs \nSanfte Körperarbeit für Wohlgefühl\, Beweglichkeit\, Spannungsausgleich und Gelassenheit \n-mehr Körperbewußtsein erlangen \n-mehr Beweglichkeit erfahren \n-Verspannungen lösen \n-tägliches Wohlbefinden steigern \n  \nKosten: 100 € für 10 Einheiten
URL:https://www.eutonie.de/alle-kursangebote/3186-2024-04-22/2028-02-14/
LOCATION:Kindergarten St. Michael\, Kirchstraße 12\, Gutach im Breisgau\, 79261\, Deutschland
ORGANIZER;CN="Klank%2C Angelika":MAILTO:angelikaklank@web.de
GEO:48.11648;7.99199
X-APPLE-STRUCTURED-LOCATION;VALUE=URI;X-ADDRESS=Kindergarten St. Michael Kirchstraße 12 Gutach im Breisgau 79261 Deutschland;X-APPLE-RADIUS=500;X-TITLE=Kirchstraße 12:geo:7.99199,48.11648
END:VEVENT
BEGIN:VEVENT
DTSTART;TZID=Europe/Berlin:20280221T093000
DTEND;TZID=Europe/Berlin:20280221T110000
DTSTAMP:20260422T072953
CREATED:20180418T101313Z
LAST-MODIFIED:20190522T103816Z
UID:10005435-1834738200-1834743600@www.eutonie.de
SUMMARY:Eutonie am Morgen (Bad Kreuznach)
DESCRIPTION:Montags fortlaufender Kurs
URL:https://www.eutonie.de/alle-kursangebote/eutonie-am-morgen-bad-kreuznach/2028-02-21/
LOCATION:Knop\, Gartenbrunnenweg 3\, Bad Kreuznach\, 55543\, Deutschland
ORGANIZER;CN="Knop%2C Dorothee":MAILTO:dorothee.knop@gmx.de
GEO:49.8346713;7.8582538
X-APPLE-STRUCTURED-LOCATION;VALUE=URI;X-ADDRESS=Knop Gartenbrunnenweg 3 Bad Kreuznach 55543 Deutschland;X-APPLE-RADIUS=500;X-TITLE=Gartenbrunnenweg 3:geo:7.8582538,49.8346713
END:VEVENT
BEGIN:VEVENT
DTSTART;TZID=Europe/Berlin:20280221T180000
DTEND;TZID=Europe/Berlin:20280221T193000
DTSTAMP:20260422T072953
CREATED:20180418T101045Z
LAST-MODIFIED:20190522T100704Z
UID:10005645-1834768800-1834774200@www.eutonie.de
SUMMARY:Eutonie am Abend (Bad Kreuznach)
DESCRIPTION:Montags fortlaufender Kurs
URL:https://www.eutonie.de/alle-kursangebote/eutonie-am-abend-bad-kreuznach/2028-02-21/
LOCATION:Knop\, Gartenbrunnenweg 3\, Bad Kreuznach\, 55543\, Deutschland
ORGANIZER;CN="Knop%2C Dorothee":MAILTO:dorothee.knop@gmx.de
GEO:49.8346713;7.8582538
X-APPLE-STRUCTURED-LOCATION;VALUE=URI;X-ADDRESS=Knop Gartenbrunnenweg 3 Bad Kreuznach 55543 Deutschland;X-APPLE-RADIUS=500;X-TITLE=Gartenbrunnenweg 3:geo:7.8582538,49.8346713
END:VEVENT
BEGIN:VEVENT
DTSTART;TZID=Europe/Berlin:20280221T190000
DTEND;TZID=Europe/Berlin:20280221T203000
DTSTAMP:20260422T072953
CREATED:20180418T100557Z
LAST-MODIFIED:20230430T141538Z
UID:10009195-1834772400-1834777800@www.eutonie.de
SUMMARY:Sanfte Körperarbeit für Wohlgefühl\, Beweglichkeit\, Spannungsausgleich und Gelassenheit
DESCRIPTION:Montags fortlaufender Kurs \nSanfte Körperarbeit für Wohlgefühl\, Beweglichkeit\, Spannungsausgleich und Gelassenheit \n-mehr Körperbewußtsein erlangen \n-mehr Beweglichkeit erfahren \n-Verspannungen lösen \n-tägliches Wohlbefinden steigern \n  \nKosten: 100 € für 10 Einheiten
URL:https://www.eutonie.de/alle-kursangebote/3186-2024-04-22/2028-02-21/
LOCATION:Kindergarten St. Michael\, Kirchstraße 12\, Gutach im Breisgau\, 79261\, Deutschland
ORGANIZER;CN="Klank%2C Angelika":MAILTO:angelikaklank@web.de
GEO:48.11648;7.99199
X-APPLE-STRUCTURED-LOCATION;VALUE=URI;X-ADDRESS=Kindergarten St. Michael Kirchstraße 12 Gutach im Breisgau 79261 Deutschland;X-APPLE-RADIUS=500;X-TITLE=Kirchstraße 12:geo:7.99199,48.11648
END:VEVENT
BEGIN:VEVENT
DTSTART;TZID=Europe/Berlin:20280228T093000
DTEND;TZID=Europe/Berlin:20280228T110000
DTSTAMP:20260422T072953
CREATED:20180418T101313Z
LAST-MODIFIED:20190522T103816Z
UID:10005436-1835343000-1835348400@www.eutonie.de
SUMMARY:Eutonie am Morgen (Bad Kreuznach)
DESCRIPTION:Montags fortlaufender Kurs
URL:https://www.eutonie.de/alle-kursangebote/eutonie-am-morgen-bad-kreuznach/2028-02-28/
LOCATION:Knop\, Gartenbrunnenweg 3\, Bad Kreuznach\, 55543\, Deutschland
ORGANIZER;CN="Knop%2C Dorothee":MAILTO:dorothee.knop@gmx.de
GEO:49.8346713;7.8582538
X-APPLE-STRUCTURED-LOCATION;VALUE=URI;X-ADDRESS=Knop Gartenbrunnenweg 3 Bad Kreuznach 55543 Deutschland;X-APPLE-RADIUS=500;X-TITLE=Gartenbrunnenweg 3:geo:7.8582538,49.8346713
END:VEVENT
BEGIN:VEVENT
DTSTART;TZID=Europe/Berlin:20280228T180000
DTEND;TZID=Europe/Berlin:20280228T193000
DTSTAMP:20260422T072953
CREATED:20180418T101045Z
LAST-MODIFIED:20190522T100704Z
UID:10005646-1835373600-1835379000@www.eutonie.de
SUMMARY:Eutonie am Abend (Bad Kreuznach)
DESCRIPTION:Montags fortlaufender Kurs
URL:https://www.eutonie.de/alle-kursangebote/eutonie-am-abend-bad-kreuznach/2028-02-28/
LOCATION:Knop\, Gartenbrunnenweg 3\, Bad Kreuznach\, 55543\, Deutschland
ORGANIZER;CN="Knop%2C Dorothee":MAILTO:dorothee.knop@gmx.de
GEO:49.8346713;7.8582538
X-APPLE-STRUCTURED-LOCATION;VALUE=URI;X-ADDRESS=Knop Gartenbrunnenweg 3 Bad Kreuznach 55543 Deutschland;X-APPLE-RADIUS=500;X-TITLE=Gartenbrunnenweg 3:geo:7.8582538,49.8346713
END:VEVENT
BEGIN:VEVENT
DTSTART;TZID=Europe/Berlin:20280228T190000
DTEND;TZID=Europe/Berlin:20280228T203000
DTSTAMP:20260422T072953
CREATED:20180418T100557Z
LAST-MODIFIED:20230430T141538Z
UID:10009196-1835377200-1835382600@www.eutonie.de
SUMMARY:Sanfte Körperarbeit für Wohlgefühl\, Beweglichkeit\, Spannungsausgleich und Gelassenheit
DESCRIPTION:Montags fortlaufender Kurs \nSanfte Körperarbeit für Wohlgefühl\, Beweglichkeit\, Spannungsausgleich und Gelassenheit \n-mehr Körperbewußtsein erlangen \n-mehr Beweglichkeit erfahren \n-Verspannungen lösen \n-tägliches Wohlbefinden steigern \n  \nKosten: 100 € für 10 Einheiten
URL:https://www.eutonie.de/alle-kursangebote/3186-2024-04-22/2028-02-28/
LOCATION:Kindergarten St. Michael\, Kirchstraße 12\, Gutach im Breisgau\, 79261\, Deutschland
ORGANIZER;CN="Klank%2C Angelika":MAILTO:angelikaklank@web.de
GEO:48.11648;7.99199
X-APPLE-STRUCTURED-LOCATION;VALUE=URI;X-ADDRESS=Kindergarten St. Michael Kirchstraße 12 Gutach im Breisgau 79261 Deutschland;X-APPLE-RADIUS=500;X-TITLE=Kirchstraße 12:geo:7.99199,48.11648
END:VEVENT
END:VCALENDAR