BEGIN:VCALENDAR
VERSION:2.0
PRODID:-//eutonie.de - ECPv6.15.20//NONSGML v1.0//EN
CALSCALE:GREGORIAN
METHOD:PUBLISH
X-ORIGINAL-URL:https://www.eutonie.de
X-WR-CALDESC:Veranstaltungen für eutonie.de
REFRESH-INTERVAL;VALUE=DURATION:PT1H
X-Robots-Tag:noindex
X-PUBLISHED-TTL:PT1H
BEGIN:VTIMEZONE
TZID:Europe/Berlin
BEGIN:DAYLIGHT
TZOFFSETFROM:+0100
TZOFFSETTO:+0200
TZNAME:CEST
DTSTART:20250330T010000
END:DAYLIGHT
BEGIN:STANDARD
TZOFFSETFROM:+0200
TZOFFSETTO:+0100
TZNAME:CET
DTSTART:20251026T010000
END:STANDARD
BEGIN:DAYLIGHT
TZOFFSETFROM:+0100
TZOFFSETTO:+0200
TZNAME:CEST
DTSTART:20260329T010000
END:DAYLIGHT
BEGIN:STANDARD
TZOFFSETFROM:+0200
TZOFFSETTO:+0100
TZNAME:CET
DTSTART:20261025T010000
END:STANDARD
BEGIN:DAYLIGHT
TZOFFSETFROM:+0100
TZOFFSETTO:+0200
TZNAME:CEST
DTSTART:20270328T010000
END:DAYLIGHT
BEGIN:STANDARD
TZOFFSETFROM:+0200
TZOFFSETTO:+0100
TZNAME:CET
DTSTART:20271031T010000
END:STANDARD
END:VTIMEZONE
BEGIN:VEVENT
DTSTART;TZID=Europe/Berlin:20260305T090000
DTEND;TZID=Europe/Berlin:20260305T103000
DTSTAMP:20260425T233417
CREATED:20260124T185435Z
LAST-MODIFIED:20260124T192028Z
UID:10010732-1772701200-1772706600@www.eutonie.de
SUMMARY:Eutonie in Detmold
DESCRIPTION:
URL:https://www.eutonie.de/alle-kursangebote/eutonie-in-detmold-2/2026-03-05/
LOCATION:Eutonieraum\, Heldmanstraße18\, Detmold\, 32756\, Deutschland
CATEGORIES:fortlaufender Kurs
GEO:51.9369225;8.8682321
X-APPLE-STRUCTURED-LOCATION;VALUE=URI;X-ADDRESS=Eutonieraum Heldmanstraße18 Detmold 32756 Deutschland;X-APPLE-RADIUS=500;X-TITLE=Heldmanstraße18:geo:8.8682321,51.9369225
END:VEVENT
BEGIN:VEVENT
DTSTART;TZID=Europe/Berlin:20260306T163000
DTEND;TZID=Europe/Berlin:20260306T180000
DTSTAMP:20260425T233417
CREATED:20260124T190745Z
LAST-MODIFIED:20260124T192439Z
UID:10010745-1772814600-1772820000@www.eutonie.de
SUMMARY:Eutonie in Detmold
DESCRIPTION:
URL:https://www.eutonie.de/alle-kursangebote/eutonie-in-detmold-3/2026-03-06/
LOCATION:Eutonieraum\, Heldmanstraße18\, Detmold\, 32756\, Deutschland
CATEGORIES:fortlaufender Kurs
GEO:51.9369225;8.8682321
X-APPLE-STRUCTURED-LOCATION;VALUE=URI;X-ADDRESS=Eutonieraum Heldmanstraße18 Detmold 32756 Deutschland;X-APPLE-RADIUS=500;X-TITLE=Heldmanstraße18:geo:8.8682321,51.9369225
END:VEVENT
BEGIN:VEVENT
DTSTART;TZID=Europe/Berlin:20260307T100000
DTEND;TZID=Europe/Berlin:20260307T113000
DTSTAMP:20260425T233417
CREATED:20260124T184724Z
LAST-MODIFIED:20260131T190612Z
UID:10010717-1772877600-1772883000@www.eutonie.de
SUMMARY:Eutonie in Detmold
DESCRIPTION:
URL:https://www.eutonie.de/alle-kursangebote/eutonie-in-detmold/2026-03-07/
LOCATION:Eutonieraum\, Heldmanstraße18\, Detmold\, 32756\, Deutschland
CATEGORIES:fortlaufender Kurs
GEO:51.9369225;8.8682321
X-APPLE-STRUCTURED-LOCATION;VALUE=URI;X-ADDRESS=Eutonieraum Heldmanstraße18 Detmold 32756 Deutschland;X-APPLE-RADIUS=500;X-TITLE=Heldmanstraße18:geo:8.8682321,51.9369225
END:VEVENT
BEGIN:VEVENT
DTSTART;TZID=Europe/Berlin:20260312T090000
DTEND;TZID=Europe/Berlin:20260312T103000
DTSTAMP:20260425T233417
CREATED:20260124T185435Z
LAST-MODIFIED:20260124T192028Z
UID:10010733-1773306000-1773311400@www.eutonie.de
SUMMARY:Eutonie in Detmold
DESCRIPTION:
URL:https://www.eutonie.de/alle-kursangebote/eutonie-in-detmold-2/2026-03-12/
LOCATION:Eutonieraum\, Heldmanstraße18\, Detmold\, 32756\, Deutschland
CATEGORIES:fortlaufender Kurs
GEO:51.9369225;8.8682321
X-APPLE-STRUCTURED-LOCATION;VALUE=URI;X-ADDRESS=Eutonieraum Heldmanstraße18 Detmold 32756 Deutschland;X-APPLE-RADIUS=500;X-TITLE=Heldmanstraße18:geo:8.8682321,51.9369225
END:VEVENT
BEGIN:VEVENT
DTSTART;TZID=Europe/Berlin:20260313T163000
DTEND;TZID=Europe/Berlin:20260313T180000
DTSTAMP:20260425T233417
CREATED:20260124T190745Z
LAST-MODIFIED:20260124T192439Z
UID:10010746-1773419400-1773424800@www.eutonie.de
SUMMARY:Eutonie in Detmold
DESCRIPTION:
URL:https://www.eutonie.de/alle-kursangebote/eutonie-in-detmold-3/2026-03-13/
LOCATION:Eutonieraum\, Heldmanstraße18\, Detmold\, 32756\, Deutschland
CATEGORIES:fortlaufender Kurs
GEO:51.9369225;8.8682321
X-APPLE-STRUCTURED-LOCATION;VALUE=URI;X-ADDRESS=Eutonieraum Heldmanstraße18 Detmold 32756 Deutschland;X-APPLE-RADIUS=500;X-TITLE=Heldmanstraße18:geo:8.8682321,51.9369225
END:VEVENT
BEGIN:VEVENT
DTSTART;TZID=Europe/Berlin:20260314T100000
DTEND;TZID=Europe/Berlin:20260314T113000
DTSTAMP:20260425T233417
CREATED:20260124T184724Z
LAST-MODIFIED:20260131T190612Z
UID:10010718-1773482400-1773487800@www.eutonie.de
SUMMARY:Eutonie in Detmold
DESCRIPTION:
URL:https://www.eutonie.de/alle-kursangebote/eutonie-in-detmold/2026-03-14/
LOCATION:Eutonieraum\, Heldmanstraße18\, Detmold\, 32756\, Deutschland
CATEGORIES:fortlaufender Kurs
GEO:51.9369225;8.8682321
X-APPLE-STRUCTURED-LOCATION;VALUE=URI;X-ADDRESS=Eutonieraum Heldmanstraße18 Detmold 32756 Deutschland;X-APPLE-RADIUS=500;X-TITLE=Heldmanstraße18:geo:8.8682321,51.9369225
END:VEVENT
BEGIN:VEVENT
DTSTART;TZID=Europe/Berlin:20260319T090000
DTEND;TZID=Europe/Berlin:20260319T103000
DTSTAMP:20260425T233417
CREATED:20260124T185435Z
LAST-MODIFIED:20260124T192028Z
UID:10010734-1773910800-1773916200@www.eutonie.de
SUMMARY:Eutonie in Detmold
DESCRIPTION:
URL:https://www.eutonie.de/alle-kursangebote/eutonie-in-detmold-2/2026-03-19/
LOCATION:Eutonieraum\, Heldmanstraße18\, Detmold\, 32756\, Deutschland
CATEGORIES:fortlaufender Kurs
GEO:51.9369225;8.8682321
X-APPLE-STRUCTURED-LOCATION;VALUE=URI;X-ADDRESS=Eutonieraum Heldmanstraße18 Detmold 32756 Deutschland;X-APPLE-RADIUS=500;X-TITLE=Heldmanstraße18:geo:8.8682321,51.9369225
END:VEVENT
BEGIN:VEVENT
DTSTART;TZID=Europe/Berlin:20260320T163000
DTEND;TZID=Europe/Berlin:20260320T180000
DTSTAMP:20260425T233417
CREATED:20260124T190745Z
LAST-MODIFIED:20260124T192439Z
UID:10010747-1774024200-1774029600@www.eutonie.de
SUMMARY:Eutonie in Detmold
DESCRIPTION:
URL:https://www.eutonie.de/alle-kursangebote/eutonie-in-detmold-3/2026-03-20/
LOCATION:Eutonieraum\, Heldmanstraße18\, Detmold\, 32756\, Deutschland
CATEGORIES:fortlaufender Kurs
GEO:51.9369225;8.8682321
X-APPLE-STRUCTURED-LOCATION;VALUE=URI;X-ADDRESS=Eutonieraum Heldmanstraße18 Detmold 32756 Deutschland;X-APPLE-RADIUS=500;X-TITLE=Heldmanstraße18:geo:8.8682321,51.9369225
END:VEVENT
BEGIN:VEVENT
DTSTART;TZID=Europe/Berlin:20260321T100000
DTEND;TZID=Europe/Berlin:20260321T113000
DTSTAMP:20260425T233417
CREATED:20260124T184724Z
LAST-MODIFIED:20260131T190612Z
UID:10010719-1774087200-1774092600@www.eutonie.de
SUMMARY:Eutonie in Detmold
DESCRIPTION:
URL:https://www.eutonie.de/alle-kursangebote/eutonie-in-detmold/2026-03-21/
LOCATION:Eutonieraum\, Heldmanstraße18\, Detmold\, 32756\, Deutschland
CATEGORIES:fortlaufender Kurs
GEO:51.9369225;8.8682321
X-APPLE-STRUCTURED-LOCATION;VALUE=URI;X-ADDRESS=Eutonieraum Heldmanstraße18 Detmold 32756 Deutschland;X-APPLE-RADIUS=500;X-TITLE=Heldmanstraße18:geo:8.8682321,51.9369225
END:VEVENT
BEGIN:VEVENT
DTSTART;TZID=Europe/Berlin:20260326T090000
DTEND;TZID=Europe/Berlin:20260326T103000
DTSTAMP:20260425T233417
CREATED:20260124T185435Z
LAST-MODIFIED:20260124T192028Z
UID:10010735-1774515600-1774521000@www.eutonie.de
SUMMARY:Eutonie in Detmold
DESCRIPTION:
URL:https://www.eutonie.de/alle-kursangebote/eutonie-in-detmold-2/2026-03-26/
LOCATION:Eutonieraum\, Heldmanstraße18\, Detmold\, 32756\, Deutschland
CATEGORIES:fortlaufender Kurs
GEO:51.9369225;8.8682321
X-APPLE-STRUCTURED-LOCATION;VALUE=URI;X-ADDRESS=Eutonieraum Heldmanstraße18 Detmold 32756 Deutschland;X-APPLE-RADIUS=500;X-TITLE=Heldmanstraße18:geo:8.8682321,51.9369225
END:VEVENT
BEGIN:VEVENT
DTSTART;TZID=Europe/Berlin:20260327T163000
DTEND;TZID=Europe/Berlin:20260327T180000
DTSTAMP:20260425T233417
CREATED:20260124T190745Z
LAST-MODIFIED:20260124T192439Z
UID:10010748-1774629000-1774634400@www.eutonie.de
SUMMARY:Eutonie in Detmold
DESCRIPTION:
URL:https://www.eutonie.de/alle-kursangebote/eutonie-in-detmold-3/2026-03-27/
LOCATION:Eutonieraum\, Heldmanstraße18\, Detmold\, 32756\, Deutschland
CATEGORIES:fortlaufender Kurs
GEO:51.9369225;8.8682321
X-APPLE-STRUCTURED-LOCATION;VALUE=URI;X-ADDRESS=Eutonieraum Heldmanstraße18 Detmold 32756 Deutschland;X-APPLE-RADIUS=500;X-TITLE=Heldmanstraße18:geo:8.8682321,51.9369225
END:VEVENT
BEGIN:VEVENT
DTSTART;TZID=Europe/Berlin:20260328T100000
DTEND;TZID=Europe/Berlin:20260328T113000
DTSTAMP:20260425T233417
CREATED:20260124T184724Z
LAST-MODIFIED:20260131T190612Z
UID:10010720-1774692000-1774697400@www.eutonie.de
SUMMARY:Eutonie in Detmold
DESCRIPTION:
URL:https://www.eutonie.de/alle-kursangebote/eutonie-in-detmold/2026-03-28/
LOCATION:Eutonieraum\, Heldmanstraße18\, Detmold\, 32756\, Deutschland
CATEGORIES:fortlaufender Kurs
GEO:51.9369225;8.8682321
X-APPLE-STRUCTURED-LOCATION;VALUE=URI;X-ADDRESS=Eutonieraum Heldmanstraße18 Detmold 32756 Deutschland;X-APPLE-RADIUS=500;X-TITLE=Heldmanstraße18:geo:8.8682321,51.9369225
END:VEVENT
END:VCALENDAR