BEGIN:VCALENDAR
VERSION:2.0
PRODID:-//eutonie.de - ECPv6.15.20//NONSGML v1.0//EN
CALSCALE:GREGORIAN
METHOD:PUBLISH
X-WR-CALNAME:eutonie.de
X-ORIGINAL-URL:https://www.eutonie.de
X-WR-CALDESC:Veranstaltungen für eutonie.de
REFRESH-INTERVAL;VALUE=DURATION:PT1H
X-Robots-Tag:noindex
X-PUBLISHED-TTL:PT1H
BEGIN:VTIMEZONE
TZID:Europe/Berlin
BEGIN:DAYLIGHT
TZOFFSETFROM:+0100
TZOFFSETTO:+0200
TZNAME:CEST
DTSTART:20240331T010000
END:DAYLIGHT
BEGIN:STANDARD
TZOFFSETFROM:+0200
TZOFFSETTO:+0100
TZNAME:CET
DTSTART:20241027T010000
END:STANDARD
BEGIN:DAYLIGHT
TZOFFSETFROM:+0100
TZOFFSETTO:+0200
TZNAME:CEST
DTSTART:20250330T010000
END:DAYLIGHT
BEGIN:STANDARD
TZOFFSETFROM:+0200
TZOFFSETTO:+0100
TZNAME:CET
DTSTART:20251026T010000
END:STANDARD
BEGIN:DAYLIGHT
TZOFFSETFROM:+0100
TZOFFSETTO:+0200
TZNAME:CEST
DTSTART:20260329T010000
END:DAYLIGHT
BEGIN:STANDARD
TZOFFSETFROM:+0200
TZOFFSETTO:+0100
TZNAME:CET
DTSTART:20261025T010000
END:STANDARD
END:VTIMEZONE
BEGIN:VEVENT
DTSTART;TZID=Europe/Berlin:20250303T180000
DTEND;TZID=Europe/Berlin:20250303T193000
DTSTAMP:20260421T235758
CREATED:20180418T101045Z
LAST-MODIFIED:20190522T100704Z
UID:10001757-1741024800-1741030200@www.eutonie.de
SUMMARY:Eutonie am Abend (Bad Kreuznach)
DESCRIPTION:Montags fortlaufender Kurs
URL:https://www.eutonie.de/alle-kursangebote/eutonie-am-abend-bad-kreuznach/2025-03-03/
LOCATION:Knop\, Gartenbrunnenweg 3\, Bad Kreuznach\, 55543\, Deutschland
ORGANIZER;CN="Knop%2C Dorothee":MAILTO:dorothee.knop@gmx.de
GEO:49.8346713;7.8582538
X-APPLE-STRUCTURED-LOCATION;VALUE=URI;X-ADDRESS=Knop Gartenbrunnenweg 3 Bad Kreuznach 55543 Deutschland;X-APPLE-RADIUS=500;X-TITLE=Gartenbrunnenweg 3:geo:7.8582538,49.8346713
END:VEVENT
BEGIN:VEVENT
DTSTART;TZID=Europe/Berlin:20250310T180000
DTEND;TZID=Europe/Berlin:20250310T193000
DTSTAMP:20260421T235758
CREATED:20180418T101045Z
LAST-MODIFIED:20190522T100704Z
UID:10001758-1741629600-1741635000@www.eutonie.de
SUMMARY:Eutonie am Abend (Bad Kreuznach)
DESCRIPTION:Montags fortlaufender Kurs
URL:https://www.eutonie.de/alle-kursangebote/eutonie-am-abend-bad-kreuznach/2025-03-10/
LOCATION:Knop\, Gartenbrunnenweg 3\, Bad Kreuznach\, 55543\, Deutschland
ORGANIZER;CN="Knop%2C Dorothee":MAILTO:dorothee.knop@gmx.de
GEO:49.8346713;7.8582538
X-APPLE-STRUCTURED-LOCATION;VALUE=URI;X-ADDRESS=Knop Gartenbrunnenweg 3 Bad Kreuznach 55543 Deutschland;X-APPLE-RADIUS=500;X-TITLE=Gartenbrunnenweg 3:geo:7.8582538,49.8346713
END:VEVENT
BEGIN:VEVENT
DTSTART;TZID=Europe/Berlin:20250317T180000
DTEND;TZID=Europe/Berlin:20250317T193000
DTSTAMP:20260421T235758
CREATED:20180418T101045Z
LAST-MODIFIED:20190522T100704Z
UID:10001759-1742234400-1742239800@www.eutonie.de
SUMMARY:Eutonie am Abend (Bad Kreuznach)
DESCRIPTION:Montags fortlaufender Kurs
URL:https://www.eutonie.de/alle-kursangebote/eutonie-am-abend-bad-kreuznach/2025-03-17/
LOCATION:Knop\, Gartenbrunnenweg 3\, Bad Kreuznach\, 55543\, Deutschland
ORGANIZER;CN="Knop%2C Dorothee":MAILTO:dorothee.knop@gmx.de
GEO:49.8346713;7.8582538
X-APPLE-STRUCTURED-LOCATION;VALUE=URI;X-ADDRESS=Knop Gartenbrunnenweg 3 Bad Kreuznach 55543 Deutschland;X-APPLE-RADIUS=500;X-TITLE=Gartenbrunnenweg 3:geo:7.8582538,49.8346713
END:VEVENT
BEGIN:VEVENT
DTSTART;TZID=Europe/Berlin:20250324T180000
DTEND;TZID=Europe/Berlin:20250324T193000
DTSTAMP:20260421T235758
CREATED:20180418T101045Z
LAST-MODIFIED:20190522T100704Z
UID:10001760-1742839200-1742844600@www.eutonie.de
SUMMARY:Eutonie am Abend (Bad Kreuznach)
DESCRIPTION:Montags fortlaufender Kurs
URL:https://www.eutonie.de/alle-kursangebote/eutonie-am-abend-bad-kreuznach/2025-03-24/
LOCATION:Knop\, Gartenbrunnenweg 3\, Bad Kreuznach\, 55543\, Deutschland
ORGANIZER;CN="Knop%2C Dorothee":MAILTO:dorothee.knop@gmx.de
GEO:49.8346713;7.8582538
X-APPLE-STRUCTURED-LOCATION;VALUE=URI;X-ADDRESS=Knop Gartenbrunnenweg 3 Bad Kreuznach 55543 Deutschland;X-APPLE-RADIUS=500;X-TITLE=Gartenbrunnenweg 3:geo:7.8582538,49.8346713
END:VEVENT
BEGIN:VEVENT
DTSTART;TZID=Europe/Berlin:20250331T180000
DTEND;TZID=Europe/Berlin:20250331T193000
DTSTAMP:20260421T235758
CREATED:20180418T101045Z
LAST-MODIFIED:20190522T100704Z
UID:10001761-1743444000-1743449400@www.eutonie.de
SUMMARY:Eutonie am Abend (Bad Kreuznach)
DESCRIPTION:Montags fortlaufender Kurs
URL:https://www.eutonie.de/alle-kursangebote/eutonie-am-abend-bad-kreuznach/2025-03-31/
LOCATION:Knop\, Gartenbrunnenweg 3\, Bad Kreuznach\, 55543\, Deutschland
ORGANIZER;CN="Knop%2C Dorothee":MAILTO:dorothee.knop@gmx.de
GEO:49.8346713;7.8582538
X-APPLE-STRUCTURED-LOCATION;VALUE=URI;X-ADDRESS=Knop Gartenbrunnenweg 3 Bad Kreuznach 55543 Deutschland;X-APPLE-RADIUS=500;X-TITLE=Gartenbrunnenweg 3:geo:7.8582538,49.8346713
END:VEVENT
END:VCALENDAR