BEGIN:VCALENDAR
VERSION:2.0
PRODID:-//eutonie.de - ECPv6.15.20//NONSGML v1.0//EN
CALSCALE:GREGORIAN
METHOD:PUBLISH
X-WR-CALNAME:eutonie.de
X-ORIGINAL-URL:https://www.eutonie.de
X-WR-CALDESC:Veranstaltungen für eutonie.de
REFRESH-INTERVAL;VALUE=DURATION:PT1H
X-Robots-Tag:noindex
X-PUBLISHED-TTL:PT1H
BEGIN:VTIMEZONE
TZID:Europe/Berlin
BEGIN:DAYLIGHT
TZOFFSETFROM:+0100
TZOFFSETTO:+0200
TZNAME:CEST
DTSTART:20230326T010000
END:DAYLIGHT
BEGIN:STANDARD
TZOFFSETFROM:+0200
TZOFFSETTO:+0100
TZNAME:CET
DTSTART:20231029T010000
END:STANDARD
BEGIN:DAYLIGHT
TZOFFSETFROM:+0100
TZOFFSETTO:+0200
TZNAME:CEST
DTSTART:20240331T010000
END:DAYLIGHT
BEGIN:STANDARD
TZOFFSETFROM:+0200
TZOFFSETTO:+0100
TZNAME:CET
DTSTART:20241027T010000
END:STANDARD
BEGIN:DAYLIGHT
TZOFFSETFROM:+0100
TZOFFSETTO:+0200
TZNAME:CEST
DTSTART:20250330T010000
END:DAYLIGHT
BEGIN:STANDARD
TZOFFSETFROM:+0200
TZOFFSETTO:+0100
TZNAME:CET
DTSTART:20251026T010000
END:STANDARD
BEGIN:DAYLIGHT
TZOFFSETFROM:+0100
TZOFFSETTO:+0200
TZNAME:CEST
DTSTART:20260329T010000
END:DAYLIGHT
BEGIN:STANDARD
TZOFFSETFROM:+0200
TZOFFSETTO:+0100
TZNAME:CET
DTSTART:20261025T010000
END:STANDARD
BEGIN:DAYLIGHT
TZOFFSETFROM:+0100
TZOFFSETTO:+0200
TZNAME:CEST
DTSTART:20270328T010000
END:DAYLIGHT
BEGIN:STANDARD
TZOFFSETFROM:+0200
TZOFFSETTO:+0100
TZNAME:CET
DTSTART:20271031T010000
END:STANDARD
END:VTIMEZONE
BEGIN:VEVENT
DTSTART;TZID=Europe/Berlin:20260421T174500
DTEND;TZID=Europe/Berlin:20260421T194500
DTSTAMP:20260425T153419
CREATED:20260123T155727Z
LAST-MODIFIED:20260204T162928Z
UID:10010779-1776793500-1776800700@www.eutonie.de
SUMMARY:Abend-Online-Eutonie-Ursula Cremer
DESCRIPTION:Der Link wird auf Anfrage hin per E-Mail zugesendet. Den Link 10 Minuten vorher öffnen – dann bin ich zu sehen. Bei Fragen zur Technik um 17:15 Uhr einloggen und mich anrufen unter 0049 160 56 83596 \n– Material: wird bei Anmeldung per E-Mail bekanntgegeben\n– Eutonie-Platz\, Kopfunterlage\, auch für die Seitenlage modellierbar\, oder ein zusätzliches Kissen oder Handtuch um die richtige Höhe in Seitenlage haben zu können\n– Laptop\, Smartphone oder Tablet auf Boden\, Hocker oder Schreibtisch stellen – Lautsprecher und Kamera an \n– den Liegeplatz so einstellen\, das die Kamera dich seitlich erfasst in Rücken- oder Seitenlage und ich dich somit von der Seite sehen kann \n60 Minuten Anleitung. Wer mag\, kann sich im Anschluss an die Eutoniestunde austauschen. \n3 x Februar-Termine: 03.\, 17. und 24.02.2026 Die Kursgebühr von 10 Euro pro Unterrichtsstunde\, bitte zu Kursbeginn überweisen. \nBankverbindung: Bitte anfragen bei: Ursula Cremer-Nitzschke (+491605683596)
URL:https://www.eutonie.de/alle-kursangebote/online-eutonie-kurs-mit-ursula-cremer/2026-04-21/
CATEGORIES:fortlaufender Kurs,fortlaufender Kurs,Online-Kurse
ORGANIZER;CN="Cremer%2C Ursula":MAILTO:ursula.cremer@t-online.de
LOCATION:
END:VEVENT
BEGIN:VEVENT
DTSTART;TZID=Europe/Berlin:20241231T174500
DTEND;TZID=Europe/Berlin:20241231T184500
DTSTAMP:20260425T153419
CREATED:20240418T205725Z
LAST-MODIFIED:20240531T082026Z
UID:10004412-1735667100-1735670700@www.eutonie.de
SUMMARY:Online-Kurs: Eutonie per Zoom
DESCRIPTION:
URL:https://www.eutonie.de/alle-kursangebote/eutonie-per-zoom/2024-12-31/
CATEGORIES:fortlaufender Kurs,Online-Kurse
ORGANIZER;CN="Cremer%2C Ursula":MAILTO:ursula.cremer@t-online.de
END:VEVENT
END:VCALENDAR