BEGIN:VCALENDAR
VERSION:2.0
PRODID:-//eutonie.de - ECPv6.15.20//NONSGML v1.0//EN
CALSCALE:GREGORIAN
METHOD:PUBLISH
X-ORIGINAL-URL:https://www.eutonie.de
X-WR-CALDESC:Veranstaltungen für eutonie.de
REFRESH-INTERVAL;VALUE=DURATION:PT1H
X-Robots-Tag:noindex
X-PUBLISHED-TTL:PT1H
BEGIN:VTIMEZONE
TZID:Europe/Berlin
BEGIN:DAYLIGHT
TZOFFSETFROM:+0100
TZOFFSETTO:+0200
TZNAME:CEST
DTSTART:20250330T010000
END:DAYLIGHT
BEGIN:STANDARD
TZOFFSETFROM:+0200
TZOFFSETTO:+0100
TZNAME:CET
DTSTART:20251026T010000
END:STANDARD
BEGIN:DAYLIGHT
TZOFFSETFROM:+0100
TZOFFSETTO:+0200
TZNAME:CEST
DTSTART:20260329T010000
END:DAYLIGHT
BEGIN:STANDARD
TZOFFSETFROM:+0200
TZOFFSETTO:+0100
TZNAME:CET
DTSTART:20261025T010000
END:STANDARD
BEGIN:DAYLIGHT
TZOFFSETFROM:+0100
TZOFFSETTO:+0200
TZNAME:CEST
DTSTART:20270328T010000
END:DAYLIGHT
BEGIN:STANDARD
TZOFFSETFROM:+0200
TZOFFSETTO:+0100
TZNAME:CET
DTSTART:20271031T010000
END:STANDARD
END:VTIMEZONE
BEGIN:VEVENT
DTSTART;TZID=Europe/Berlin:20260428T174500
DTEND;TZID=Europe/Berlin:20260428T194500
DTSTAMP:20260425T135359
CREATED:20260123T155727Z
LAST-MODIFIED:20260204T162928Z
UID:10010780-1777398300-1777405500@www.eutonie.de
SUMMARY:Abend-Online-Eutonie-Ursula Cremer
DESCRIPTION:Der Link wird auf Anfrage hin per E-Mail zugesendet. Den Link 10 Minuten vorher öffnen – dann bin ich zu sehen. Bei Fragen zur Technik um 17:15 Uhr einloggen und mich anrufen unter 0049 160 56 83596 \n– Material: wird bei Anmeldung per E-Mail bekanntgegeben\n– Eutonie-Platz\, Kopfunterlage\, auch für die Seitenlage modellierbar\, oder ein zusätzliches Kissen oder Handtuch um die richtige Höhe in Seitenlage haben zu können\n– Laptop\, Smartphone oder Tablet auf Boden\, Hocker oder Schreibtisch stellen – Lautsprecher und Kamera an \n– den Liegeplatz so einstellen\, das die Kamera dich seitlich erfasst in Rücken- oder Seitenlage und ich dich somit von der Seite sehen kann \n60 Minuten Anleitung. Wer mag\, kann sich im Anschluss an die Eutoniestunde austauschen. \n3 x Februar-Termine: 03.\, 17. und 24.02.2026 Die Kursgebühr von 10 Euro pro Unterrichtsstunde\, bitte zu Kursbeginn überweisen. \nBankverbindung: Bitte anfragen bei: Ursula Cremer-Nitzschke (+491605683596)
URL:https://www.eutonie.de/alle-kursangebote/online-eutonie-kurs-mit-ursula-cremer/2026-04-28/
CATEGORIES:fortlaufender Kurs,fortlaufender Kurs,Online-Kurse
ORGANIZER;CN="Cremer%2C Ursula":MAILTO:ursula.cremer@t-online.de
LOCATION:
END:VEVENT
BEGIN:VEVENT
DTSTART;VALUE=DATE:20260518
DTEND;VALUE=DATE:20260523
DTSTAMP:20260425T135359
CREATED:20260123T160203Z
LAST-MODIFIED:20260204T153324Z
UID:10010710-1779062400-1779494399@www.eutonie.de
SUMMARY:Eutonie-Kurs 5 Tage im Vogelsberg
DESCRIPTION:Eutonie-Kurs im Tagungshaus Vogelsbergdorf in Herbstein \nKursbeginn: Montag\, 18. Mai um 14.30 Uhr – die Zimmer können ab 10 Uhr bezogen werden\, Mittagessen um 12:30 Uhr ist möglich.\nKursende:    Freitag\, 22. Mai um 11:30 Uhr; anschl. Mittagessen. \nDer Eutonie-Unterricht findet statt an 3 ganzen Tagen und 2 halben Tagen (Montag Nachmittag und Freitag Vormittag).\nBitte bis zum 30.03.2026 bei mir anmelden und die Kursgebühr von 220 Euro überweisen. Die Bankverbindung teile ich  bei Anmeldung per E-Mail mit. \nDie Zimmerbuchung (möglich mit Reiserücktrittsversicherung für 9 Euro) direkt an das Tagungshaus richten über die Homepage: www.vogelsbergdorf.de – bei Menüpunkt „Kontakt“ – Online-Buchung; im Formular bei Firma: Eutonie-Kurs eintragen. Rückfragen per Telefon: 06643/7020\, Bürozeiten Mo. – Fr. 8 bis 14 Uhr oder per E-Mail: rezeption@vogelsbergdorf.de  \nÜbernachtung mit Vollpension: Zimmer mit eigener Dusche / WC\, pro Tag/Person: Doppelzimmer 73\,00 Euro\, Einzelzimmer 83\,00 Euro; plus 2\,00 Euro Kurtaxe am Tag. Besondere Essgewohnheiten werden berücksichtigt (bitte bei Anmeldung im Vogelsbergdorf nennen). \nAn diejenigen\, die das erste Mal kommen: Das Tagungshaus liegt am Rand eines Buchenwaldes\, Einstieg in Wander- und Spazierwege ab Haus. Der Luftkurort Herbstein mit Thermalbad ist zu Fuß gut zu erreichen – (evtl. Badekleidung mitbringen). \nHerbstein liegt 30 km westlich von Fulda. Auto-Navi eingeben: Adolf-Kolping-Str.22\, 36358 Herbstein.\nBahnreisende: Zielbahnhof Lauterbach (Hessen-Nord).  Wenn mehrere folgenden Zug nehmen: ab Fulda 11.33 Uhr – an Lauterbach 11:59 Uhr\, dann können die Taxikosten (ca. 35€) geteilt werden und das Vogelsbergdorf bestellt das Taxi.\nBei Buchung des Zuges bei mir melden! Wenn nötig\, organisiere ich die Abholung vom Bahnhof – Montag zu 11.33 Uhr\, bei Bedarf auch Sonntag.\nDie Angaben zum Kurs finden sich auch auf meiner Internetseite. Dort sind ebenfalls Informationen zum wöchentlichen Eutonie-Kurs in meinem Videokanal ZOOM. \nHerzliche Grüße\nUrsula Cremer\nTel: 05361 53250 – mit AB\nMobil: 0049 160 56 83 596\nwww.eutonie-cremer.de\nursula.cremer@t-online.de\nAlte Landstr. 20\n38446 Wolfsburg
URL:https://www.eutonie.de/alle-kursangebote/eutoniekurs-vogelsberg/
CATEGORIES:Mehrtageskurs
ORGANIZER;CN="Cremer%2C Ursula":MAILTO:ursula.cremer@t-online.de
END:VEVENT
END:VCALENDAR