BEGIN:VCALENDAR
VERSION:2.0
PRODID:-//eutonie.de - ECPv6.15.20//NONSGML v1.0//EN
CALSCALE:GREGORIAN
METHOD:PUBLISH
X-WR-CALNAME:eutonie.de
X-ORIGINAL-URL:https://www.eutonie.de
X-WR-CALDESC:Veranstaltungen für eutonie.de
REFRESH-INTERVAL;VALUE=DURATION:PT1H
X-Robots-Tag:noindex
X-PUBLISHED-TTL:PT1H
BEGIN:VTIMEZONE
TZID:Europe/Berlin
BEGIN:DAYLIGHT
TZOFFSETFROM:+0100
TZOFFSETTO:+0200
TZNAME:CEST
DTSTART:20250330T010000
END:DAYLIGHT
BEGIN:STANDARD
TZOFFSETFROM:+0200
TZOFFSETTO:+0100
TZNAME:CET
DTSTART:20251026T010000
END:STANDARD
BEGIN:DAYLIGHT
TZOFFSETFROM:+0100
TZOFFSETTO:+0200
TZNAME:CEST
DTSTART:20260329T010000
END:DAYLIGHT
BEGIN:STANDARD
TZOFFSETFROM:+0200
TZOFFSETTO:+0100
TZNAME:CET
DTSTART:20261025T010000
END:STANDARD
BEGIN:DAYLIGHT
TZOFFSETFROM:+0100
TZOFFSETTO:+0200
TZNAME:CEST
DTSTART:20270328T010000
END:DAYLIGHT
BEGIN:STANDARD
TZOFFSETFROM:+0200
TZOFFSETTO:+0100
TZNAME:CET
DTSTART:20271031T010000
END:STANDARD
END:VTIMEZONE
BEGIN:VEVENT
DTSTART;TZID=Europe/Berlin:20260417T090000
DTEND;TZID=Europe/Berlin:20260417T100000
DTSTAMP:20260419T191124
CREATED:20210130T114148Z
LAST-MODIFIED:20240531T082959Z
UID:10007476-1776416400-1776420000@www.eutonie.de
SUMMARY:Eutonie Online-Kurs    Neue Wege gehen!
DESCRIPTION:Freitags fortlaufender ONLINE-Kurs per Zoom \nKörper erfahren\, Bewegung erleben… \ndie Freitag Termine können Sie beliebig einzeln wahrnehmen.\nDamit es spontan und unkompliziert wird\, werden die von euch tatsächlich wahrgenommenen Einheiten\, mit einen Wert von jeweils 10 € pro Termin\, erst am Ende des betreffendes Monat berechnet. \nVoraussetzung zur Teilnahme ist\, dass ihr euch per mail an:\nmail@eutonie.online\nbei mir meldet\, damit ich euch rechtzeitig den Zugangslink schicken kann. \nWenn ihr noch Fragen habt könnt ihr mich auch gerne unter: 0177 8555042  anrufen. \nDie Einheiten  eignen sich für Menschen jeden Alters\, die Interesse haben\, die Körperarbeit der Eutonie zu vertiefen. \nEinzelunterricht auf Nachfrage möglich. \nBitte überweisen Sie die Einheitsgebühren bis Ende des jeweiligen Monats auf folgendes Konto:\nIsabelle Pelti Kromm\nIBAN: DE55 5185 0079 0165 0107 28
URL:https://www.eutonie.de/alle-kursangebote/eutonie-neue-wege-gehen/2026-04-17/
LOCATION:Online über Zoom\, Deutschland
CATEGORIES:Online-Kurse
ORGANIZER;CN="Pelti Kromm%2C Isabelle":MAILTO:mail@eutonie.online
GEO:51.165691;10.451526
END:VEVENT
END:VCALENDAR