BEGIN:VCALENDAR
VERSION:2.0
PRODID:-//eutonie.de - ECPv6.15.20//NONSGML v1.0//EN
CALSCALE:GREGORIAN
METHOD:PUBLISH
X-WR-CALNAME:eutonie.de
X-ORIGINAL-URL:https://www.eutonie.de
X-WR-CALDESC:Veranstaltungen für eutonie.de
REFRESH-INTERVAL;VALUE=DURATION:PT1H
X-Robots-Tag:noindex
X-PUBLISHED-TTL:PT1H
BEGIN:VTIMEZONE
TZID:Europe/Berlin
BEGIN:DAYLIGHT
TZOFFSETFROM:+0100
TZOFFSETTO:+0200
TZNAME:CEST
DTSTART:20250330T010000
END:DAYLIGHT
BEGIN:STANDARD
TZOFFSETFROM:+0200
TZOFFSETTO:+0100
TZNAME:CET
DTSTART:20251026T010000
END:STANDARD
BEGIN:DAYLIGHT
TZOFFSETFROM:+0100
TZOFFSETTO:+0200
TZNAME:CEST
DTSTART:20260329T010000
END:DAYLIGHT
BEGIN:STANDARD
TZOFFSETFROM:+0200
TZOFFSETTO:+0100
TZNAME:CET
DTSTART:20261025T010000
END:STANDARD
BEGIN:DAYLIGHT
TZOFFSETFROM:+0100
TZOFFSETTO:+0200
TZNAME:CEST
DTSTART:20270328T010000
END:DAYLIGHT
BEGIN:STANDARD
TZOFFSETFROM:+0200
TZOFFSETTO:+0100
TZNAME:CET
DTSTART:20271031T010000
END:STANDARD
END:VTIMEZONE
BEGIN:VEVENT
DTSTART;TZID=Europe/Berlin:20260504T163000
DTEND;TZID=Europe/Berlin:20260508T130000
DTSTAMP:20260425T183810
CREATED:20251006T160442Z
LAST-MODIFIED:20251006T160829Z
UID:10010344-1777912200-1778245200@www.eutonie.de
SUMMARY:Eutonie auf Sylt mit Martina Kreß
DESCRIPTION:Eutonie an der Akademie am Meer auf Sylt\nDer Kurs eignet sich für alle\, die ihre Selbstwahrnehmung\, Selbstregulation und Gesundheit stärken möchten.  Neben den Eutoniestunden findet sich Zeit für Regeneration und Erholung im Naturschutzgebiet Klappholttal in den Dünen und am Meer. \nAnreise: Montag ab 15:00 Uhr\nErste Eutonie-Stunde: Montag\, 16:30 Uhr\nEutonie Zeiten: 10:00 – 11:30 Uhr\n16:30 – 18:00 Uhr\n19:30 – 20:30 Uhr\nFreier Nachmittag: Mittwoch\nAbreise: Freitag nach dem Mittagessen \nSeminargebühr: 260\,00 €\nUnterkunft und Verpflegung / Tag: 77\,00 € im Mai\nEinzelzimmerzuschlag / Tag: 21\,00 €\nKurtaxe / Tag: die jeweils aktuelle Kurtaxe\nParkgebühr / Tag: 2\,00 € \nBitte melden Sie sich an:\nAkademie am Meer\nVolkshochschule Klappholttal\n25992 List/Sylt\nTelefon: (04651) 955 0\nE-Mail: info@akademie-am-meer.de
URL:https://www.eutonie.de/alle-kursangebote/eutonie-auf-sylt-mit-martina-kress/
LOCATION:Akademie am Meer\, Klappholttal\, List/Sylt\, 25992\, Deutschland
CATEGORIES:Mehrtageskurs
GEO:54.988541;8.367711
X-APPLE-STRUCTURED-LOCATION;VALUE=URI;X-ADDRESS=Akademie am Meer Klappholttal List/Sylt 25992 Deutschland;X-APPLE-RADIUS=500;X-TITLE=Klappholttal:geo:8.367711,54.988541
END:VEVENT
BEGIN:VEVENT
DTSTART;TZID=Europe/Berlin:20260511T163000
DTEND;TZID=Europe/Berlin:20260515T130000
DTSTAMP:20260425T183810
CREATED:20251006T160956Z
LAST-MODIFIED:20251006T160956Z
UID:10010345-1778517000-1778850000@www.eutonie.de
SUMMARY:Eutonie auf Sylt mit Martina Kreß
DESCRIPTION:Eutonie an der Akademie am Meer auf Sylt\nDer Kurs eignet sich für alle\, die ihre Selbstwahrnehmung\, Selbstregulation und Gesundheit stärken möchten.  Neben den Eutoniestunden findet sich Zeit für Regeneration und Erholung im Naturschutzgebiet Klappholttal in den Dünen und am Meer. \nAnreise: Montag ab 15:00 Uhr\nErste Eutonie-Stunde: Montag\, 16:30 Uhr\nEutonie Zeiten: 10:00 – 11:30 Uhr\n16:30 – 18:00 Uhr\n19:30 – 20:30 Uhr\nFreier Nachmittag: Mittwoch\nAbreise: Freitag nach dem Mittagessen \nSeminargebühr: 260\,00 €\nUnterkunft und Verpflegung / Tag: 77\,00 € im Mai\nEinzelzimmerzuschlag / Tag: 21\,00 €\nKurtaxe / Tag: die jeweils aktuelle Kurtaxe\nParkgebühr / Tag: 2\,00 € \nBitte melden Sie sich an:\nAkademie am Meer\nVolkshochschule Klappholttal\n25992 List/Sylt\nTelefon: (04651) 955 0\nE-Mail: info@akademie-am-meer.de
URL:https://www.eutonie.de/alle-kursangebote/eutonie-auf-sylt-mit-martina-kress-2/
LOCATION:Akademie am Meer\, Klappholttal\, List/Sylt\, 25992\, Deutschland
CATEGORIES:Mehrtageskurs
GEO:54.988541;8.367711
X-APPLE-STRUCTURED-LOCATION;VALUE=URI;X-ADDRESS=Akademie am Meer Klappholttal List/Sylt 25992 Deutschland;X-APPLE-RADIUS=500;X-TITLE=Klappholttal:geo:8.367711,54.988541
END:VEVENT
BEGIN:VEVENT
DTSTART;TZID=Europe/Berlin:20260921T163000
DTEND;TZID=Europe/Berlin:20260925T130000
DTSTAMP:20260425T183810
CREATED:20251006T161122Z
LAST-MODIFIED:20251006T161122Z
UID:10010346-1790008200-1790341200@www.eutonie.de
SUMMARY:Eutonie auf Sylt mit Martina Kreß
DESCRIPTION:Eutonie an der Akademie am Meer auf Sylt\nDer Kurs eignet sich für alle\, die ihre Selbstwahrnehmung\, Selbstregulation und Gesundheit stärken möchten.  Neben den Eutoniestunden findet sich Zeit für Regeneration und Erholung im Naturschutzgebiet Klappholttal in den Dünen und am Meer. \nAnreise: Montag ab 15:00 Uhr\nErste Eutonie-Stunde: Montag\, 16:30 Uhr\nEutonie Zeiten: 10:00 – 11:30 Uhr\n16:30 – 18:00 Uhr\n19:30 – 20:30 Uhr\nFreier Nachmittag: Mittwoch\nAbreise: Freitag nach dem Mittagessen \nSeminargebühr: 260\,00 €\nUnterkunft und Verpflegung / Tag: 85\,00 € im September\nEinzelzimmerzuschlag / Tag: 21\,00 €\nKurtaxe / Tag: die jeweils aktuelle Kurtaxe\nParkgebühr / Tag: 2\,00 € \nBitte melden Sie sich an:\nAkademie am Meer\nVolkshochschule Klappholttal\n25992 List/Sylt\nTelefon: (04651) 955 0\nE-Mail: info@akademie-am-meer.de
URL:https://www.eutonie.de/alle-kursangebote/eutonie-auf-sylt-mit-martina-kress-3/
LOCATION:Akademie am Meer\, Klappholttal\, List/Sylt\, 25992\, Deutschland
CATEGORIES:Mehrtageskurs
GEO:54.988541;8.367711
X-APPLE-STRUCTURED-LOCATION;VALUE=URI;X-ADDRESS=Akademie am Meer Klappholttal List/Sylt 25992 Deutschland;X-APPLE-RADIUS=500;X-TITLE=Klappholttal:geo:8.367711,54.988541
END:VEVENT
END:VCALENDAR