BEGIN:VCALENDAR
VERSION:2.0
PRODID:-//eutonie.de - ECPv6.15.20//NONSGML v1.0//EN
CALSCALE:GREGORIAN
METHOD:PUBLISH
X-ORIGINAL-URL:https://www.eutonie.de
X-WR-CALDESC:Veranstaltungen für eutonie.de
REFRESH-INTERVAL;VALUE=DURATION:PT1H
X-Robots-Tag:noindex
X-PUBLISHED-TTL:PT1H
BEGIN:VTIMEZONE
TZID:Europe/Berlin
BEGIN:DAYLIGHT
TZOFFSETFROM:+0100
TZOFFSETTO:+0200
TZNAME:CEST
DTSTART:20250330T010000
END:DAYLIGHT
BEGIN:STANDARD
TZOFFSETFROM:+0200
TZOFFSETTO:+0100
TZNAME:CET
DTSTART:20251026T010000
END:STANDARD
BEGIN:DAYLIGHT
TZOFFSETFROM:+0100
TZOFFSETTO:+0200
TZNAME:CEST
DTSTART:20260329T010000
END:DAYLIGHT
BEGIN:STANDARD
TZOFFSETFROM:+0200
TZOFFSETTO:+0100
TZNAME:CET
DTSTART:20261025T010000
END:STANDARD
BEGIN:DAYLIGHT
TZOFFSETFROM:+0100
TZOFFSETTO:+0200
TZNAME:CEST
DTSTART:20270328T010000
END:DAYLIGHT
BEGIN:STANDARD
TZOFFSETFROM:+0200
TZOFFSETTO:+0100
TZNAME:CET
DTSTART:20271031T010000
END:STANDARD
END:VTIMEZONE
BEGIN:VEVENT
DTSTART;TZID=Europe/Berlin:20260416T100000
DTEND;TZID=Europe/Berlin:20260416T113000
DTSTAMP:20260419T154805
CREATED:20190524T080114Z
LAST-MODIFIED:20190524T080114Z
UID:10006423-1776333600-1776339000@www.eutonie.de
SUMMARY:Eutonie am Morgen (Ostseebad Rerik)
DESCRIPTION:Mittwochs – fortlaufender Kurs
URL:https://www.eutonie.de/alle-kursangebote/eutonie-am-morgen-ostseebad-rerik/2026-04-16/
LOCATION:AWOSANO Familienferiendorf Rerik\, John-Brinckman-Straße 6c\, Ostseebad Rerik\, 18230\, Deutschland
CATEGORIES:fortlaufender Kurs
ORGANIZER;CN="Deinert%2C Ulrich":MAILTO:ubdeinert@web.de
GEO:54.1003123;11.619518
X-APPLE-STRUCTURED-LOCATION;VALUE=URI;X-ADDRESS=AWOSANO Familienferiendorf Rerik John-Brinckman-Straße 6c Ostseebad Rerik 18230 Deutschland;X-APPLE-RADIUS=500;X-TITLE=John-Brinckman-Straße 6c:geo:11.619518,54.1003123
END:VEVENT
END:VCALENDAR