BEGIN:VCALENDAR
VERSION:2.0
PRODID:-//eutonie.de - ECPv6.15.20//NONSGML v1.0//EN
CALSCALE:GREGORIAN
METHOD:PUBLISH
X-ORIGINAL-URL:https://www.eutonie.de
X-WR-CALDESC:Veranstaltungen für eutonie.de
REFRESH-INTERVAL;VALUE=DURATION:PT1H
X-Robots-Tag:noindex
X-PUBLISHED-TTL:PT1H
BEGIN:VTIMEZONE
TZID:Europe/Berlin
BEGIN:DAYLIGHT
TZOFFSETFROM:+0100
TZOFFSETTO:+0200
TZNAME:CEST
DTSTART:20250330T010000
END:DAYLIGHT
BEGIN:STANDARD
TZOFFSETFROM:+0200
TZOFFSETTO:+0100
TZNAME:CET
DTSTART:20251026T010000
END:STANDARD
BEGIN:DAYLIGHT
TZOFFSETFROM:+0100
TZOFFSETTO:+0200
TZNAME:CEST
DTSTART:20260329T010000
END:DAYLIGHT
BEGIN:STANDARD
TZOFFSETFROM:+0200
TZOFFSETTO:+0100
TZNAME:CET
DTSTART:20261025T010000
END:STANDARD
BEGIN:DAYLIGHT
TZOFFSETFROM:+0100
TZOFFSETTO:+0200
TZNAME:CEST
DTSTART:20270328T010000
END:DAYLIGHT
BEGIN:STANDARD
TZOFFSETFROM:+0200
TZOFFSETTO:+0100
TZNAME:CET
DTSTART:20271031T010000
END:STANDARD
END:VTIMEZONE
BEGIN:VEVENT
DTSTART;VALUE=DATE:20260518
DTEND;VALUE=DATE:20260523
DTSTAMP:20260425T201306
CREATED:20260120T111206Z
LAST-MODIFIED:20260120T111206Z
UID:10010444-1779062400-1779494399@www.eutonie.de
SUMMARY:Wochenkurs im Vogelsberg / Hessen
DESCRIPTION:Ein Wohlfühlort mitten in der Natur zum Regenerieren\, Entspannen\, und sich selbst Gutes Tun mit den Elementen der Eutonie\, die das ganze Wesen eines Menschen ansprechen. Eutonie leite ich mit ruhigen Bewegungen an zum Fühlen\, Spüren und Entdecken seiner Selbst. \nKursbeginn: Montag\, 18. Mai um 14.30 Uhr – die Zimmer können ab 10 Uhr bezogen werden\, Mittagessen um 12:30 Uhr ist möglich.\nKursende:    Freitag\, 22. Mai um 11:30 Uhr; anschl. Mittagessen. Das Tagungshaus liegt mitten in der Natur am Rand eines Buchenwaldes\, Einstieg in Wander- und Spazierwege ab Haus. Der Luftkurort Herbstein mit Thermalbad ist zu Fuß gut zu erreichen – (evtl. Badekleidung mitbringen).
URL:https://www.eutonie.de/alle-kursangebote/wochenkurs-im-vogelsberg-hessen/
LOCATION:Vogelsbergdorf\, Adolph-Kolping-Str. 22\, Herbstein\, Hessen\, 36358\, Deutschland
GEO:50.5706689;9.3367265
X-APPLE-STRUCTURED-LOCATION;VALUE=URI;X-ADDRESS=Vogelsbergdorf Adolph-Kolping-Str. 22 Herbstein Hessen 36358 Deutschland;X-APPLE-RADIUS=500;X-TITLE=Adolph-Kolping-Str. 22:geo:9.3367265,50.5706689
END:VEVENT
END:VCALENDAR